BEGIN:VCALENDAR
VERSION:2.0
PRODID:-//Calendario de Eventos Gran Canaria - ECPv6.15.17.1//NONSGML v1.0//EN
CALSCALE:GREGORIAN
METHOD:PUBLISH
X-WR-CALNAME:Calendario de Eventos Gran Canaria
X-ORIGINAL-URL:https://calendarioeventos.com/en
X-WR-CALDESC:Events for Calendario de Eventos Gran Canaria
REFRESH-INTERVAL;VALUE=DURATION:PT1H
X-Robots-Tag:noindex
X-PUBLISHED-TTL:PT1H
BEGIN:VTIMEZONE
TZID:Europe/London
BEGIN:DAYLIGHT
TZOFFSETFROM:+0000
TZOFFSETTO:+0100
TZNAME:BST
DTSTART:20250330T010000
END:DAYLIGHT
BEGIN:STANDARD
TZOFFSETFROM:+0100
TZOFFSETTO:+0000
TZNAME:GMT
DTSTART:20251026T010000
END:STANDARD
BEGIN:DAYLIGHT
TZOFFSETFROM:+0000
TZOFFSETTO:+0100
TZNAME:BST
DTSTART:20260329T010000
END:DAYLIGHT
BEGIN:STANDARD
TZOFFSETFROM:+0100
TZOFFSETTO:+0000
TZNAME:GMT
DTSTART:20261025T010000
END:STANDARD
BEGIN:DAYLIGHT
TZOFFSETFROM:+0000
TZOFFSETTO:+0100
TZNAME:BST
DTSTART:20270328T010000
END:DAYLIGHT
BEGIN:STANDARD
TZOFFSETFROM:+0100
TZOFFSETTO:+0000
TZNAME:GMT
DTSTART:20271031T010000
END:STANDARD
END:VTIMEZONE
BEGIN:VEVENT
DTSTART;TZID=Europe/London:20260304T180000
DTEND;TZID=Europe/London:20260304T193000
DTSTAMP:20260423T204529
CREATED:20260224T114342Z
LAST-MODIFIED:20260302T130342Z
UID:61599-1772647200-1772652600@calendarioeventos.com
SUMMARY:Literatura - Reflexiones\, anécdotas\, poemas
DESCRIPTION:Literatura – Evento literario «Reflexiones\, anécdotas\, poemas» en la Biblioteca Pública del Estado de Las Palmas de Gran Canaria. \nCoordina el acto: Luis Socas M. (Arte Socas) \nSala de Actos Manuel Padorno. \nEntrada libre hasta completar aforo
URL:https://calendarioeventos.com/en/evento/literatura-reflexiones-anecdotas-poemas/
LOCATION:Biblioteca Pública del Estado de Las Palmas\, C. Mlle. Las Palmas\, s/n\, 35003 Las Palmas de Gran Canaria\, Las Palmas
CATEGORIES:Cultura,Eventos gratuitos,Las Palmas de GC,Literatura
END:VEVENT
END:VCALENDAR