BEGIN:VCALENDAR
VERSION:2.0
PRODID:-//Calendario de Eventos Gran Canaria - ECPv6.15.17.1//NONSGML v1.0//EN
CALSCALE:GREGORIAN
METHOD:PUBLISH
X-WR-CALNAME:Calendario de Eventos Gran Canaria
X-ORIGINAL-URL:https://calendarioeventos.com/en
X-WR-CALDESC:Events for Calendario de Eventos Gran Canaria
REFRESH-INTERVAL;VALUE=DURATION:PT1H
X-Robots-Tag:noindex
X-PUBLISHED-TTL:PT1H
BEGIN:VTIMEZONE
TZID:Europe/London
BEGIN:DAYLIGHT
TZOFFSETFROM:+0000
TZOFFSETTO:+0100
TZNAME:BST
DTSTART:20250330T010000
END:DAYLIGHT
BEGIN:STANDARD
TZOFFSETFROM:+0100
TZOFFSETTO:+0000
TZNAME:GMT
DTSTART:20251026T010000
END:STANDARD
BEGIN:DAYLIGHT
TZOFFSETFROM:+0000
TZOFFSETTO:+0100
TZNAME:BST
DTSTART:20260329T010000
END:DAYLIGHT
BEGIN:STANDARD
TZOFFSETFROM:+0100
TZOFFSETTO:+0000
TZNAME:GMT
DTSTART:20261025T010000
END:STANDARD
BEGIN:DAYLIGHT
TZOFFSETFROM:+0000
TZOFFSETTO:+0100
TZNAME:BST
DTSTART:20270328T010000
END:DAYLIGHT
BEGIN:STANDARD
TZOFFSETFROM:+0100
TZOFFSETTO:+0000
TZNAME:GMT
DTSTART:20271031T010000
END:STANDARD
END:VTIMEZONE
BEGIN:VEVENT
DTSTART;TZID=Europe/London:20260306T173000
DTEND;TZID=Europe/London:20260306T193000
DTSTAMP:20260420T031821
CREATED:20260303T165512Z
LAST-MODIFIED:20260303T165514Z
UID:64154-1772818200-1772825400@calendarioeventos.com
SUMMARY:Literatura - Un brin de causette
DESCRIPTION:Literatura – «Un brin de causette» en la Biblioteca Municipal de Santa Brígida\, Gran Canaria. \nLa Biblioteca de Santa Brígida acoge el próximo 6 de marzo una propuesta cultural de la Escuela Oficial de Idiomas que invita a sumergirse en el idioma francés a través de la lectura\, la conversación y la creatividad. Bajo el título Un brin de causette : Moi\, toi\, la lecture et Jules Verne \, y con la colaboración de Veronique\, la actividad ofrece una experiencia participativa inspirada en el universo del escritor Julio Verne . \n El encuentro se desarrollará entre las 17:30 y las 19:30 horas \, con un formato dinámico pensado para quienes desean practicar francés en un ambiente distendido y cultural. La sesión comenzará con un espacio de lectura y conversación en francés\, donde las personas participantes podrán comentar textos y compartir impresiones de forma guiada. \n A mitad de la tarde habrá una pausa-café \, concebida como un momento para seguir conversando de manera informal\, antes de dar paso a la última parte del programa: un taller de escritura creativa \, en el que la imaginación y el idioma se combinan para crear pequeños textos inspirados en la obra y el espíritu del autor francés. \n La actividad es de carácter libre y gratuita\, aunque se recomienda reservar plaza previamente escribiendo al correo sartrodb@canariaseducacion.es . Para poder seguir el desarrollo de la sesión\, se requiere contar con un nivel básico de francés y tener más de 14 años. \n Una oportunidad para practicar el idioma\, conocer a otras personas con inquietudes similares y disfrutar de la literatura desde una perspectiva creativa.
URL:https://calendarioeventos.com/en/evento/literatura-un-brin-de-causette/
LOCATION:Biblioteca Municipal de Santa Brígida\, C. el Calvario\, 23\, 35300 Sta Brígida\, Las Palmas
CATEGORIES:Cultura,Eventos gratuitos,Literatura,Santa Brígida
ATTACH;FMTTYPE=image/jpeg:https://calendarioeventos.com/wp-content/uploads/2026/03/WhatsApp-Image-2026-02-24-at-19.37.56-9A747r.avif
END:VEVENT
END:VCALENDAR