BEGIN:VCALENDAR
VERSION:2.0
PRODID:-//Calendario de Eventos Gran Canaria - ECPv6.15.17.1//NONSGML v1.0//EN
CALSCALE:GREGORIAN
METHOD:PUBLISH
X-WR-CALNAME:Calendario de Eventos Gran Canaria
X-ORIGINAL-URL:https://calendarioeventos.com/en
X-WR-CALDESC:Events for Calendario de Eventos Gran Canaria
REFRESH-INTERVAL;VALUE=DURATION:PT1H
X-Robots-Tag:noindex
X-PUBLISHED-TTL:PT1H
BEGIN:VTIMEZONE
TZID:Europe/London
BEGIN:DAYLIGHT
TZOFFSETFROM:+0000
TZOFFSETTO:+0100
TZNAME:BST
DTSTART:20240331T010000
END:DAYLIGHT
BEGIN:STANDARD
TZOFFSETFROM:+0100
TZOFFSETTO:+0000
TZNAME:GMT
DTSTART:20241027T010000
END:STANDARD
BEGIN:DAYLIGHT
TZOFFSETFROM:+0000
TZOFFSETTO:+0100
TZNAME:BST
DTSTART:20250330T010000
END:DAYLIGHT
BEGIN:STANDARD
TZOFFSETFROM:+0100
TZOFFSETTO:+0000
TZNAME:GMT
DTSTART:20251026T010000
END:STANDARD
BEGIN:DAYLIGHT
TZOFFSETFROM:+0000
TZOFFSETTO:+0100
TZNAME:BST
DTSTART:20260329T010000
END:DAYLIGHT
BEGIN:STANDARD
TZOFFSETFROM:+0100
TZOFFSETTO:+0000
TZNAME:GMT
DTSTART:20261025T010000
END:STANDARD
END:VTIMEZONE
BEGIN:VEVENT
DTSTART;TZID=Europe/London:20251112T183000
DTEND;TZID=Europe/London:20251112T193000
DTSTAMP:20260419T185239
CREATED:20251105T122037Z
LAST-MODIFIED:20251105T122037Z
UID:29961-1762972200-1762975800@calendarioeventos.com
SUMMARY:LPA Confidencial - El secreto de la medusa’
DESCRIPTION:LPA Confidencial – Presentación del libro «El secreto de la medusa» en el Edificio de Humanidades\, Campus del Obelisco\, Las Palmas de Gran Canaria. \nEntrevista presentación del libro de Ángel Sánchez de la Cruz ‘El secreto de la medusa’ \, con Mayte Martín\nÁngel Sánchez de la Cruz y Mayte Martín \nLPA Confidencial presenta el libro «El secreto de la Medusa» de Ángel Sánchez de la Cruz en la Sala de Grados del Edificio de Humanidades “Agustín Millares Carló». \nMayte Martín presenta la novela del único canario que ha ganado hasta ahora el Premio Internacional de Novela de Misterio e Intriga de Las Palmas de Gran Canaria. \nUna novela que se desarrolla en Gran Canaria y que rinde homenaje a los detectives clásicos del género negro en un contexto actual. \n 
URL:https://calendarioeventos.com/en/evento/lpa-confidencial-el-secreto-de-la-medusa/
LOCATION:Campus del Obelisco\, C. de Pérez del Toro\, 1\, 35003 Las Palmas de Gran Canaria\, Las Palmas
CATEGORIES:Actividades,Charla,Eventos gratuitos,Las Palmas de GC,Literatura,Presentación
END:VEVENT
END:VCALENDAR