BEGIN:VCALENDAR
VERSION:2.0
PRODID:-//Calendario de Eventos Gran Canaria - ECPv6.15.17.1//NONSGML v1.0//EN
CALSCALE:GREGORIAN
METHOD:PUBLISH
X-WR-CALNAME:Calendario de Eventos Gran Canaria
X-ORIGINAL-URL:https://calendarioeventos.com/en
X-WR-CALDESC:Events for Calendario de Eventos Gran Canaria
REFRESH-INTERVAL;VALUE=DURATION:PT1H
X-Robots-Tag:noindex
X-PUBLISHED-TTL:PT1H
BEGIN:VTIMEZONE
TZID:Europe/London
BEGIN:DAYLIGHT
TZOFFSETFROM:+0000
TZOFFSETTO:+0100
TZNAME:BST
DTSTART:20250330T010000
END:DAYLIGHT
BEGIN:STANDARD
TZOFFSETFROM:+0100
TZOFFSETTO:+0000
TZNAME:GMT
DTSTART:20251026T010000
END:STANDARD
BEGIN:DAYLIGHT
TZOFFSETFROM:+0000
TZOFFSETTO:+0100
TZNAME:BST
DTSTART:20260329T010000
END:DAYLIGHT
BEGIN:STANDARD
TZOFFSETFROM:+0100
TZOFFSETTO:+0000
TZNAME:GMT
DTSTART:20261025T010000
END:STANDARD
BEGIN:DAYLIGHT
TZOFFSETFROM:+0000
TZOFFSETTO:+0100
TZNAME:BST
DTSTART:20270328T010000
END:DAYLIGHT
BEGIN:STANDARD
TZOFFSETFROM:+0100
TZOFFSETTO:+0000
TZNAME:GMT
DTSTART:20271031T010000
END:STANDARD
END:VTIMEZONE
BEGIN:VEVENT
DTSTART;TZID=Europe/London:20260103T120000
DTEND;TZID=Europe/London:20260103T200000
DTSTAMP:20260424T065938
CREATED:20251228T225351Z
LAST-MODIFIED:20251228T225351Z
UID:48128-1767441600-1767470400@calendarioeventos.com
SUMMARY:Market - Esto no es otro **** mercadillq+ de Navidad
DESCRIPTION:Market – Esto no es otro **** mercadillq+ de Navidad en El Taller de La Isleta\, Las Palmas de Gran Canaria. \nEl día 3 de enero VOLVEMOS al arrejunte de artesanxs\, artistas y otras mentes creadoras y creativas en un mercadillo aderezado con música y comida vegana. \nMuchos puestos con propuestas y creaciones alternativas\, que no encontrarás en otros ***** mercadillos de navidad. \nEstaremos desde las 12 hasta las 20h compartiendo\, disfrutando y enredándonos en ese maravilloso espacio autogestionado que es @eltallerlaisleta\nAmenización incómodamente maravillosa de @viktorthedick y más cosas que verás sólo si vienes. A la mesa @carlacarela poniéndonos gossonas y @ninfuloo prendiéndonos al fuegote 🎵 + UNARTISTASORPRESAAAAAAAAAAAAAAAAAAAHHH!! (qué ganas!!!)
URL:https://calendarioeventos.com/en/evento/market-esto-no-es-otro-mercadillq-de-navidad/
LOCATION:El Taller\, C. Anzofé\, 43\, 35009 Las Palmas de Gran Canaria\, Las Palmas
CATEGORIES:Actividades,Eventos gratuitos,Gastronomía,Las Palmas de GC,Literatura,Música,Market
ATTACH;FMTTYPE=image/png:https://calendarioeventos.com/wp-content/uploads/2025/12/Screenshot-2025-12-28-at-22-52-07-Instagram.avif
END:VEVENT
END:VCALENDAR