BEGIN:VCALENDAR
VERSION:2.0
PRODID:-//Calendario de Eventos Gran Canaria - ECPv6.15.17.1//NONSGML v1.0//EN
CALSCALE:GREGORIAN
METHOD:PUBLISH
X-WR-CALNAME:Calendario de Eventos Gran Canaria
X-ORIGINAL-URL:https://calendarioeventos.com/en
X-WR-CALDESC:Events for Calendario de Eventos Gran Canaria
REFRESH-INTERVAL;VALUE=DURATION:PT1H
X-Robots-Tag:noindex
X-PUBLISHED-TTL:PT1H
BEGIN:VTIMEZONE
TZID:Europe/London
BEGIN:DAYLIGHT
TZOFFSETFROM:+0000
TZOFFSETTO:+0100
TZNAME:BST
DTSTART:20250330T010000
END:DAYLIGHT
BEGIN:STANDARD
TZOFFSETFROM:+0100
TZOFFSETTO:+0000
TZNAME:GMT
DTSTART:20251026T010000
END:STANDARD
BEGIN:DAYLIGHT
TZOFFSETFROM:+0000
TZOFFSETTO:+0100
TZNAME:BST
DTSTART:20260329T010000
END:DAYLIGHT
BEGIN:STANDARD
TZOFFSETFROM:+0100
TZOFFSETTO:+0000
TZNAME:GMT
DTSTART:20261025T010000
END:STANDARD
BEGIN:DAYLIGHT
TZOFFSETFROM:+0000
TZOFFSETTO:+0100
TZNAME:BST
DTSTART:20270328T010000
END:DAYLIGHT
BEGIN:STANDARD
TZOFFSETFROM:+0100
TZOFFSETTO:+0000
TZNAME:GMT
DTSTART:20271031T010000
END:STANDARD
END:VTIMEZONE
BEGIN:VEVENT
DTSTART;TZID=Europe/London:20260103T110000
DTEND;TZID=Europe/London:20260103T150000
DTSTAMP:20260424T100222
CREATED:20260102T110732Z
LAST-MODIFIED:20260102T110822Z
UID:10012822-1767438000-1767452400@calendarioeventos.com
SUMMARY:Market - Flash Day & Market Kalahé Studio
DESCRIPTION:Market – Flash Day & Market en Kalahé Studio\, Las Palmas de Gran Canaria. \n¡Apunta en tu agenda los días 2 y 3 de enero y vente el primer fin de semana del año a disfrutar en Kalahé! \nPara nuestro primer flash day\, Nekane\, María y Mireia abriremos el estudio para tatuar diseños especiales y a precios reducidos. Estos diseños estarán disponibles sólo el fin de semana y serán pensados específicamente para la ocasión. No es necesario coger cita\, solo ven\, elige el tuyo y llévatelo contigo. \nTambién podrás disfrutar de un market variado de opciones para que puedas realizar tus compras navideñas eligiendo piezas únicas creadas por diferentes artesanos y artistas\, así como llevarte un tatuaje de henna o jagua en la piel. \n@nekane_hennalaspalmas\n@mi_io_tatua\n@tatuajes_de_nekane\n@maria_cabrera_tattoo\n@musharte_\n@amaramacrame\n@sinergyale_\n@amanaytaller\n@zibaelementos\n@hipisueños\n@asiriaalvarez\n@lauracolladophoto\n@morning_good_studio\n@amaobroni_decoracion_\n@maria_cabrera_desing\n@mireiatramunt_______
URL:https://calendarioeventos.com/en/evento/market-flash-day-market-kalahe-studio/2026-01-03/
LOCATION:Kalahé Tattoo Studio\, C. Ángel Guerra\, 11\, 35003 Las Palmas de Gran Canaria\, Las Palmas
CATEGORIES:Actividades,Arte,Eventos gratuitos,Las Palmas de GC,Market
ATTACH;FMTTYPE=image/png:https://calendarioeventos.com/wp-content/uploads/2026/01/Screenshot-2026-01-02-at-11-03-43-Instagram.avif
END:VEVENT
END:VCALENDAR