BEGIN:VCALENDAR
VERSION:2.0
PRODID:-//Calendario de Eventos Gran Canaria - ECPv6.15.17.1//NONSGML v1.0//EN
CALSCALE:GREGORIAN
METHOD:PUBLISH
X-WR-CALNAME:Calendario de Eventos Gran Canaria
X-ORIGINAL-URL:https://calendarioeventos.com/en
X-WR-CALDESC:Events for Calendario de Eventos Gran Canaria
REFRESH-INTERVAL;VALUE=DURATION:PT1H
X-Robots-Tag:noindex
X-PUBLISHED-TTL:PT1H
BEGIN:VTIMEZONE
TZID:Europe/London
BEGIN:DAYLIGHT
TZOFFSETFROM:+0000
TZOFFSETTO:+0100
TZNAME:BST
DTSTART:20250330T010000
END:DAYLIGHT
BEGIN:STANDARD
TZOFFSETFROM:+0100
TZOFFSETTO:+0000
TZNAME:GMT
DTSTART:20251026T010000
END:STANDARD
BEGIN:DAYLIGHT
TZOFFSETFROM:+0000
TZOFFSETTO:+0100
TZNAME:BST
DTSTART:20260329T010000
END:DAYLIGHT
BEGIN:STANDARD
TZOFFSETFROM:+0100
TZOFFSETTO:+0000
TZNAME:GMT
DTSTART:20261025T010000
END:STANDARD
BEGIN:DAYLIGHT
TZOFFSETFROM:+0000
TZOFFSETTO:+0100
TZNAME:BST
DTSTART:20270328T010000
END:DAYLIGHT
BEGIN:STANDARD
TZOFFSETFROM:+0100
TZOFFSETTO:+0000
TZNAME:GMT
DTSTART:20271031T010000
END:STANDARD
END:VTIMEZONE
BEGIN:VEVENT
DTSTART;TZID=Europe/London:20260307T100000
DTEND;TZID=Europe/London:20260307T200000
DTSTAMP:20260423T160337
CREATED:20250427T230000Z
LAST-MODIFIED:20260303T212308Z
UID:3349-1772877600-1772913600@calendarioeventos.com
SUMMARY:Market - Luis Morote
DESCRIPTION:Market Luis Morote «Colores de Primavera» en la Calle Luis Morote\, Zona Santa Catalina\, Las Palmas de Gran Canaria. \n  \n  \n 
URL:https://calendarioeventos.com/en/evento/market-luis-morote/
LOCATION:Luis Morote\, C/ Luis Morote\, Las Palmas de Gran Canaria
CATEGORIES:Actividades,Eventos gratuitos,Las Palmas de GC,Market,Municipio,Precio
ATTACH;FMTTYPE=image/png:https://calendarioeventos.com/wp-content/uploads/2025/04/Screenshot-2026-03-03-at-21-22-06-Primera-Semana-•-Instagram.avif
END:VEVENT
END:VCALENDAR