BEGIN:VCALENDAR
VERSION:2.0
PRODID:-//Calendario de Eventos Gran Canaria - ECPv6.15.17.1//NONSGML v1.0//EN
CALSCALE:GREGORIAN
METHOD:PUBLISH
X-WR-CALNAME:Calendario de Eventos Gran Canaria
X-ORIGINAL-URL:https://calendarioeventos.com/en
X-WR-CALDESC:Events for Calendario de Eventos Gran Canaria
REFRESH-INTERVAL;VALUE=DURATION:PT1H
X-Robots-Tag:noindex
X-PUBLISHED-TTL:PT1H
BEGIN:VTIMEZONE
TZID:Europe/London
BEGIN:DAYLIGHT
TZOFFSETFROM:+0000
TZOFFSETTO:+0100
TZNAME:BST
DTSTART:20240331T010000
END:DAYLIGHT
BEGIN:STANDARD
TZOFFSETFROM:+0100
TZOFFSETTO:+0000
TZNAME:GMT
DTSTART:20241027T010000
END:STANDARD
BEGIN:DAYLIGHT
TZOFFSETFROM:+0000
TZOFFSETTO:+0100
TZNAME:BST
DTSTART:20250330T010000
END:DAYLIGHT
BEGIN:STANDARD
TZOFFSETFROM:+0100
TZOFFSETTO:+0000
TZNAME:GMT
DTSTART:20251026T010000
END:STANDARD
BEGIN:DAYLIGHT
TZOFFSETFROM:+0000
TZOFFSETTO:+0100
TZNAME:BST
DTSTART:20260329T010000
END:DAYLIGHT
BEGIN:STANDARD
TZOFFSETFROM:+0100
TZOFFSETTO:+0000
TZNAME:GMT
DTSTART:20261025T010000
END:STANDARD
END:VTIMEZONE
BEGIN:VEVENT
DTSTART;TZID=Europe/London:20251221T190000
DTEND;TZID=Europe/London:20251221T203000
DTSTAMP:20260425T123827
CREATED:20251212T101425Z
LAST-MODIFIED:20251212T101425Z
UID:43123-1766343600-1766349000@calendarioeventos.com
SUMMARY:Maspalomas Talent Show
DESCRIPTION:Maspalomas Talent Show en el Auditorio de Parque del Sur de Maspalomas\, San Bartolomé de Tirajana\, Gran Canaria. \nDentro del programa 𝗡𝗮𝘃𝗶𝗱𝗮𝗱𝗲𝘀 𝗱𝗲𝗹 𝗠𝘂𝗻𝗱𝗼\, vuelve uno de los eventos más esperados para descubrir el talento local en todas sus formas. \nSi te apasiona cantar\, bailar\, interpretar o sorprender al público con cualquier talento… ¡esta es tu oportunidad!\nConsulta las bases e inscríbete escaneando el QR del cartel. 🎶🌟 \n𝗕𝗮𝘀𝗲𝘀 𝗲 𝗶𝗻𝘀𝗰𝗿𝗶𝗽𝗰𝗶𝗼́𝗻: https://f.mtr.cool/utmjxljqhe \nVen a disfrutar de una noche llena de creatividad\, emoción y espíritu navideño.\n¡Te esperamos!
URL:https://calendarioeventos.com/en/evento/maspalomas-talent-show/
LOCATION:Parque del Sur\, Sonnenland\, 35100 Maspalomas\, Las Palmas\, Las Palmas\, Spain
CATEGORIES:Actividades,Danza,Eventos gratuitos,Infantil,La Aldea,Música
ATTACH;FMTTYPE=image/png:https://calendarioeventos.com/wp-content/uploads/2025/12/Screenshot-2025-12-12-at-10-11-46-Instagram.avif
GEO:27.764423764848;15.595032135508
X-APPLE-STRUCTURED-LOCATION;VALUE=URI;X-ADDRESS=Parque del Sur Sonnenland 35100 Maspalomas Las Palmas Las Palmas Spain;X-APPLE-RADIUS=500;X-TITLE=Sonnenland\, 35100 Maspalomas\, Las Palmas:geo:15.595032135508,27.764423764848
END:VEVENT
END:VCALENDAR