BEGIN:VCALENDAR
VERSION:2.0
PRODID:-//Calendario de Eventos Gran Canaria - ECPv6.15.17.1//NONSGML v1.0//EN
CALSCALE:GREGORIAN
METHOD:PUBLISH
X-WR-CALNAME:Calendario de Eventos Gran Canaria
X-ORIGINAL-URL:https://calendarioeventos.com/en
X-WR-CALDESC:Events for Calendario de Eventos Gran Canaria
REFRESH-INTERVAL;VALUE=DURATION:PT1H
X-Robots-Tag:noindex
X-PUBLISHED-TTL:PT1H
BEGIN:VTIMEZONE
TZID:Europe/London
BEGIN:DAYLIGHT
TZOFFSETFROM:+0000
TZOFFSETTO:+0100
TZNAME:BST
DTSTART:20250330T010000
END:DAYLIGHT
BEGIN:STANDARD
TZOFFSETFROM:+0100
TZOFFSETTO:+0000
TZNAME:GMT
DTSTART:20251026T010000
END:STANDARD
BEGIN:DAYLIGHT
TZOFFSETFROM:+0000
TZOFFSETTO:+0100
TZNAME:BST
DTSTART:20260329T010000
END:DAYLIGHT
BEGIN:STANDARD
TZOFFSETFROM:+0100
TZOFFSETTO:+0000
TZNAME:GMT
DTSTART:20261025T010000
END:STANDARD
BEGIN:DAYLIGHT
TZOFFSETFROM:+0000
TZOFFSETTO:+0100
TZNAME:BST
DTSTART:20270328T010000
END:DAYLIGHT
BEGIN:STANDARD
TZOFFSETFROM:+0100
TZOFFSETTO:+0000
TZNAME:GMT
DTSTART:20271031T010000
END:STANDARD
END:VTIMEZONE
BEGIN:VEVENT
DTSTART;TZID=Europe/London:20260305T193000
DTEND;TZID=Europe/London:20260305T213000
DTSTAMP:20260420T234701
CREATED:20260303T204025Z
LAST-MODIFIED:20260303T204025Z
UID:10014793-1772739000-1772746200@calendarioeventos.com
SUMMARY:Música - Concurso de piano Pedro Espinosa
DESCRIPTION:Música – Concurso de piano Pedro Espinosa en el Teatro Consistorial de Gáldar\, Gran Canaria. \nLa inauguración oficial será el 5 de marzo a las 19:30 h\, con un concierto especial del pianista canario Víctor Naranjo Pérez\, reconocido como mejor pianista canario en 2023 y 2024\, en homenaje al legado del maestro Pedro Espinosa. \n Además\, el 8 de marzo se celebrará la edición regional juvenil\, dedicada a jóvenes pianistas canarios de entre 12 y 18 años. \n🎟 Entrada gratuita.\nℹ️ Más información en galdar.es
URL:https://calendarioeventos.com/en/evento/musica-concurso-de-piano-pedro-espinosa/2026-03-05/
LOCATION:Teatro Consistorial Gáldar\, C. Tagoror\, 6\, 35460 Gáldar\, Las Palmas
CATEGORIES:Cultura,Eventos gratuitos,Gáldar,Jóvenes,Música
ATTACH;FMTTYPE=image/jpeg:https://calendarioeventos.com/wp-content/uploads/2026/03/639744713_18537397135067433_3028710835951762249_n.avif
END:VEVENT
END:VCALENDAR