BEGIN:VCALENDAR
VERSION:2.0
PRODID:-//Calendario de Eventos Gran Canaria - ECPv6.15.17.1//NONSGML v1.0//EN
CALSCALE:GREGORIAN
METHOD:PUBLISH
X-WR-CALNAME:Calendario de Eventos Gran Canaria
X-ORIGINAL-URL:https://calendarioeventos.com/en
X-WR-CALDESC:Events for Calendario de Eventos Gran Canaria
REFRESH-INTERVAL;VALUE=DURATION:PT1H
X-Robots-Tag:noindex
X-PUBLISHED-TTL:PT1H
BEGIN:VTIMEZONE
TZID:Europe/London
BEGIN:DAYLIGHT
TZOFFSETFROM:+0000
TZOFFSETTO:+0100
TZNAME:BST
DTSTART:20250330T010000
END:DAYLIGHT
BEGIN:STANDARD
TZOFFSETFROM:+0100
TZOFFSETTO:+0000
TZNAME:GMT
DTSTART:20251026T010000
END:STANDARD
BEGIN:DAYLIGHT
TZOFFSETFROM:+0000
TZOFFSETTO:+0100
TZNAME:BST
DTSTART:20260329T010000
END:DAYLIGHT
BEGIN:STANDARD
TZOFFSETFROM:+0100
TZOFFSETTO:+0000
TZNAME:GMT
DTSTART:20261025T010000
END:STANDARD
BEGIN:DAYLIGHT
TZOFFSETFROM:+0000
TZOFFSETTO:+0100
TZNAME:BST
DTSTART:20270328T010000
END:DAYLIGHT
BEGIN:STANDARD
TZOFFSETFROM:+0100
TZOFFSETTO:+0000
TZNAME:GMT
DTSTART:20271031T010000
END:STANDARD
END:VTIMEZONE
BEGIN:VEVENT
DTSTART;TZID=Europe/London:20260125T120000
DTEND;TZID=Europe/London:20260125T133000
DTSTAMP:20260421T205637
CREATED:20250806T230000Z
LAST-MODIFIED:20260122T121303Z
UID:7989-1769342400-1769347800@calendarioeventos.com
SUMMARY:Música - Son Karibe
DESCRIPTION:Música – Actuación de Son Karibe en el Mercado de Guía\, Gran Canaria. \nEl Mercado de Guía vuelve a ser tu cita con la música en directo y el buen ambiente. Toma nota de las actuaciones programadas y ven a disfrutar con nosotros: \nDomingo 25 de enero | 12:00 h\n💃🕺 Son Karibe
URL:https://calendarioeventos.com/en/evento/musica-son-karibe/
LOCATION:Mercado de Guía\, Rtda. Entrada\, 35450 La Atalaya\, Las Palmas
CATEGORIES:Cultura,Eventos gratuitos,Guía,Música,Municipio,Precio
ATTACH;FMTTYPE=image/png:https://calendarioeventos.com/wp-content/uploads/2025/08/Screenshot-2026-01-22-at-12-11-33-Cuarta-Semana-•-Instagram.avif
END:VEVENT
END:VCALENDAR