BEGIN:VCALENDAR
VERSION:2.0
PRODID:-//Calendario de Eventos Gran Canaria - ECPv6.15.17.1//NONSGML v1.0//EN
CALSCALE:GREGORIAN
METHOD:PUBLISH
X-WR-CALNAME:Calendario de Eventos Gran Canaria
X-ORIGINAL-URL:https://calendarioeventos.com/en
X-WR-CALDESC:Events for Calendario de Eventos Gran Canaria
REFRESH-INTERVAL;VALUE=DURATION:PT1H
X-Robots-Tag:noindex
X-PUBLISHED-TTL:PT1H
BEGIN:VTIMEZONE
TZID:Europe/London
BEGIN:DAYLIGHT
TZOFFSETFROM:+0000
TZOFFSETTO:+0100
TZNAME:BST
DTSTART:20240331T010000
END:DAYLIGHT
BEGIN:STANDARD
TZOFFSETFROM:+0100
TZOFFSETTO:+0000
TZNAME:GMT
DTSTART:20241027T010000
END:STANDARD
BEGIN:DAYLIGHT
TZOFFSETFROM:+0000
TZOFFSETTO:+0100
TZNAME:BST
DTSTART:20250330T010000
END:DAYLIGHT
BEGIN:STANDARD
TZOFFSETFROM:+0100
TZOFFSETTO:+0000
TZNAME:GMT
DTSTART:20251026T010000
END:STANDARD
BEGIN:DAYLIGHT
TZOFFSETFROM:+0000
TZOFFSETTO:+0100
TZNAME:BST
DTSTART:20260329T010000
END:DAYLIGHT
BEGIN:STANDARD
TZOFFSETFROM:+0100
TZOFFSETTO:+0000
TZNAME:GMT
DTSTART:20261025T010000
END:STANDARD
END:VTIMEZONE
BEGIN:VEVENT
DTSTART;TZID=Europe/London:20251218T173000
DTEND;TZID=Europe/London:20251218T183000
DTSTAMP:20260425T171450
CREATED:20251207T233734Z
LAST-MODIFIED:20251207T233734Z
UID:41531-1766079000-1766082600@calendarioeventos.com
SUMMARY:Narración - Cuentos a la luz del solsticio
DESCRIPTION:Narración –  Cuentacuentos «Cuentos a la luz del solsticio» con Maria Buenadicha en la Biblioteca Josefina de la Torre\, Las Palmas de Gran Canaria. \n\nCuando la noche se alarga y la oscuridad abraza la tierra\, los cuentos se encienden como pequeñas llamas que iluminan el alma. En esta sesión de narración\, celebraremos el solsticio con historias que hablan de renovación\, esperanza y la luz que siempre regresa. \nA cargo de: María Buenadicha. \nPúblico: familiar (a partir de 4 años). \nAcceso: libre hasta completar aforo. \nContacto: 928 276 371.
URL:https://calendarioeventos.com/en/evento/narracion-cuentos-a-la-luz-del-solsticio/
LOCATION:Biblioteca Josefina de La Torre\, Paseo de las Canteras\, s/n\, Plaza Agatha Christie\, Las Palmas de Gran Canaria
CATEGORIES:Cultura,Eventos gratuitos,Las Palmas de GC,Literatura
ATTACH;FMTTYPE=image/jpeg:https://calendarioeventos.com/wp-content/uploads/2025/12/67846dd5445ca3006b1b74703c9492cb.avif
END:VEVENT
END:VCALENDAR