BEGIN:VCALENDAR
VERSION:2.0
PRODID:-//Calendario de Eventos Gran Canaria - ECPv6.15.17.1//NONSGML v1.0//EN
CALSCALE:GREGORIAN
METHOD:PUBLISH
X-WR-CALNAME:Calendario de Eventos Gran Canaria
X-ORIGINAL-URL:https://calendarioeventos.com/en
X-WR-CALDESC:Events for Calendario de Eventos Gran Canaria
REFRESH-INTERVAL;VALUE=DURATION:PT1H
X-Robots-Tag:noindex
X-PUBLISHED-TTL:PT1H
BEGIN:VTIMEZONE
TZID:Europe/London
BEGIN:DAYLIGHT
TZOFFSETFROM:+0000
TZOFFSETTO:+0100
TZNAME:BST
DTSTART:20250330T010000
END:DAYLIGHT
BEGIN:STANDARD
TZOFFSETFROM:+0100
TZOFFSETTO:+0000
TZNAME:GMT
DTSTART:20251026T010000
END:STANDARD
BEGIN:DAYLIGHT
TZOFFSETFROM:+0000
TZOFFSETTO:+0100
TZNAME:BST
DTSTART:20260329T010000
END:DAYLIGHT
BEGIN:STANDARD
TZOFFSETFROM:+0100
TZOFFSETTO:+0000
TZNAME:GMT
DTSTART:20261025T010000
END:STANDARD
BEGIN:DAYLIGHT
TZOFFSETFROM:+0000
TZOFFSETTO:+0100
TZNAME:BST
DTSTART:20270328T010000
END:DAYLIGHT
BEGIN:STANDARD
TZOFFSETFROM:+0100
TZOFFSETTO:+0000
TZNAME:GMT
DTSTART:20271031T010000
END:STANDARD
END:VTIMEZONE
BEGIN:VEVENT
DTSTART;TZID=Europe/London:20260314T190000
DTEND;TZID=Europe/London:20260314T203000
DTSTAMP:20260421T002638
CREATED:20260308T200055Z
LAST-MODIFIED:20260308T200056Z
UID:65046-1773514800-1773520200@calendarioeventos.com
SUMMARY:Narración - «Elegimos recordarte»
DESCRIPTION:Narración — «Elegimos recordarte» en la Iglesia Anglicana de Las Palmas de Gran Canaria\, con Axis Mundi. \nEntradas en este enlace  \nLos relatos del magnífico Alexis Ravelo acompañados de música en vivo.  \nAlexis Ravelo ha sido uno de los escritores más importantes de Canarias en los últimos tiempos\, y las narradoras de Desde Fuera de la Portada nos traen sus relatos en plena Ciudad Jardín\, o cómo él describió el barrio\, la ciudad colonial dentro de la ciudad colonial. Las cuatro narradoras\, Encarna\, Meli\, Yuri y Rosaura\, estarán acompañadas del músico Mario Suárez y su guitarra con la intención de trasladarte a la época del Cuasquías en una velada que ni el mismo Eladio Monroy se perdería.  \nComo en el Ciclo de Narración de Axis Mundi nos encanta innovar\, todo esto te lo traemos dentro de la Iglesia Anglicana de Las Palmas. Sábado 14 de marzo\, 19:00.  \nReserva por WhatsApp al 666 523 504 o en Entradium.
URL:https://calendarioeventos.com/en/evento/narracion-elegimos-recordarte/
LOCATION:Holy Trinity Church Las Palmas\, C. Rafael Ramírez\, 13\, 35005 Las Palmas de Gran Canaria\, Las Palmas
CATEGORIES:Cultura,Las Palmas de GC,Literatura
ATTACH;FMTTYPE=image/jpeg:https://calendarioeventos.com/wp-content/uploads/2026/03/narraci-n-elegimos-recordarte-1773000052914.avif
END:VEVENT
END:VCALENDAR