BEGIN:VCALENDAR
VERSION:2.0
PRODID:-//Calendario de Eventos Gran Canaria - ECPv6.15.17.1//NONSGML v1.0//EN
CALSCALE:GREGORIAN
METHOD:PUBLISH
X-WR-CALNAME:Calendario de Eventos Gran Canaria
X-ORIGINAL-URL:https://calendarioeventos.com/en
X-WR-CALDESC:Events for Calendario de Eventos Gran Canaria
REFRESH-INTERVAL;VALUE=DURATION:PT1H
X-Robots-Tag:noindex
X-PUBLISHED-TTL:PT1H
BEGIN:VTIMEZONE
TZID:Europe/London
BEGIN:DAYLIGHT
TZOFFSETFROM:+0000
TZOFFSETTO:+0100
TZNAME:BST
DTSTART:20250330T010000
END:DAYLIGHT
BEGIN:STANDARD
TZOFFSETFROM:+0100
TZOFFSETTO:+0000
TZNAME:GMT
DTSTART:20251026T010000
END:STANDARD
BEGIN:DAYLIGHT
TZOFFSETFROM:+0000
TZOFFSETTO:+0100
TZNAME:BST
DTSTART:20260329T010000
END:DAYLIGHT
BEGIN:STANDARD
TZOFFSETFROM:+0100
TZOFFSETTO:+0000
TZNAME:GMT
DTSTART:20261025T010000
END:STANDARD
BEGIN:DAYLIGHT
TZOFFSETFROM:+0000
TZOFFSETTO:+0100
TZNAME:BST
DTSTART:20270328T010000
END:DAYLIGHT
BEGIN:STANDARD
TZOFFSETFROM:+0100
TZOFFSETTO:+0000
TZNAME:GMT
DTSTART:20271031T010000
END:STANDARD
END:VTIMEZONE
BEGIN:VEVENT
DTSTART;TZID=Europe/London:20260103T113000
DTEND;TZID=Europe/London:20260103T130000
DTSTAMP:20260424T113357
CREATED:20251212T095325Z
LAST-MODIFIED:20251212T095325Z
UID:10011563-1767439800-1767445200@calendarioeventos.com
SUMMARY:Navidad - Desde Oriente a los barrios
DESCRIPTION:Programa de actividades de Navidad «Desde Oriente a los barrios» en San Bartolomé de Tirajana\, Gran Canaria. \n“De Oriente a los Barrios”\, una ruta navideña diseñada para acercar la creatividad\, la fantasía y la ilusión\nde estas fechas a 18 barrios del municipio\, llenándolos de actividades participativas pensadas para todas las edades. \nTalleres de Navidad: renos divertidos\, postales mágicas\, coronas reales\, muñecos de nieve y cartas llenas de ilusión… \nDICIEMBRE\n\n\n\n\nDÍA\nHORARIO\nBARRIO\n\n\nVIERNES 19\n17:00 a 19:00\nMONTAÑA LA DATA\n\n\nSÁBADO 20\n11:00 a 13:00\nAYAGAURES\n\n\n\n17:00 a 19:00\nLOMO GORDO\n\n\nDOMINGO 21\n11:00 a 13:00\nSAN FERNANDO\n\n\nLUNES 22\n17:00 a 19:00\nLOMO PERERA\n\n\nMARTES 23\n17:00 a 19:00\nMONTAÑA BLANCA\n\n\nMIÉRCOLES 24\n11:00 a 13:00\nCALDERÍN\n\n\nVIERNES 26\n11:00 a 13:00\nFATAGA\n\n\n\n17:00 a 19:00\nTUNTE\n\n\nSÁBADO 27\n11:00 a 13:00\nJUAN GRANDE\n\n\n\n17:00 a 19:00\nCASTILLO DEL ROMERAL\n\n\nDOMINGO 28\n11:00 a 13:00\nEL PAJAR\n\n\nLUNES 29\n17:00 a 19:00\nSALINAS DEL MATORRAL\n\n\nMARTES 30\n17:00 a 19:00\nRODEO KM 40\n\n\n\n\nENERO\n\n\n\n\nDÍA\nHORARIO\nBARRIO\n\n\nVIERNES 2\n17:00 a 19:00\nEL SALOBRE\n\n\nSÁBADO 3\n11:30 a 13:00\nCERCADOS DE ESPINO\n\n\n\n17:00 a 19:00\nEL TABLERO\n\n\nDOMINGO 4\n11:00 a 13:00\nALDEA BLANCA\n\n\n\n\n  \nLos horarios y lugares exactos donde se desarrollará la actividad pueden consultarse en la web municipal www.maspalomas.com 
URL:https://calendarioeventos.com/en/evento/navidad-desde-oriente-a-los-barrios/2026-01-03/1/
LOCATION:San Bartolomé de Tirajana\, 35290 Las Palmas
CATEGORIES:Actividades,Eventos gratuitos,Infantil,Juegos,San Bartolomé de Tirajana,Taller
ATTACH;FMTTYPE=image/png:https://calendarioeventos.com/wp-content/uploads/2025/12/Screenshot-2025-12-12-at-09-48-14-Instagram.avif
END:VEVENT
END:VCALENDAR