BEGIN:VCALENDAR
VERSION:2.0
PRODID:-//Calendario de Eventos Gran Canaria - ECPv6.15.17.1//NONSGML v1.0//EN
CALSCALE:GREGORIAN
METHOD:PUBLISH
X-WR-CALNAME:Calendario de Eventos Gran Canaria
X-ORIGINAL-URL:https://calendarioeventos.com/en
X-WR-CALDESC:Events for Calendario de Eventos Gran Canaria
REFRESH-INTERVAL;VALUE=DURATION:PT1H
X-Robots-Tag:noindex
X-PUBLISHED-TTL:PT1H
BEGIN:VTIMEZONE
TZID:Europe/London
BEGIN:DAYLIGHT
TZOFFSETFROM:+0000
TZOFFSETTO:+0100
TZNAME:BST
DTSTART:20240331T010000
END:DAYLIGHT
BEGIN:STANDARD
TZOFFSETFROM:+0100
TZOFFSETTO:+0000
TZNAME:GMT
DTSTART:20241027T010000
END:STANDARD
BEGIN:DAYLIGHT
TZOFFSETFROM:+0000
TZOFFSETTO:+0100
TZNAME:BST
DTSTART:20250330T010000
END:DAYLIGHT
BEGIN:STANDARD
TZOFFSETFROM:+0100
TZOFFSETTO:+0000
TZNAME:GMT
DTSTART:20251026T010000
END:STANDARD
BEGIN:DAYLIGHT
TZOFFSETFROM:+0000
TZOFFSETTO:+0100
TZNAME:BST
DTSTART:20260329T010000
END:DAYLIGHT
BEGIN:STANDARD
TZOFFSETFROM:+0100
TZOFFSETTO:+0000
TZNAME:GMT
DTSTART:20261025T010000
END:STANDARD
END:VTIMEZONE
BEGIN:VEVENT
DTSTART;TZID=Europe/London:20251219T190000
DTEND;TZID=Europe/London:20251219T210000
DTSTAMP:20260425T160210
CREATED:20251209T180618Z
LAST-MODIFIED:20251209T180618Z
UID:42139-1766170800-1766178000@calendarioeventos.com
SUMMARY:Navidad en Mogán 2025 19 diciembre
DESCRIPTION:Programa de eventos de Navidad 2025 en Mogán\, Gran Canaria\, del 19 de diciembre: \n\n20:00 horas Representación del espectáculo «El rapto de Papá Noeľ a cargo de las Escuelas Artísticas de Mogán. PLAZA PÉREZ GALDÓS – ARGUINEGUÍN\n19:00 horas Festival de Navidad del Club de Patinaje Arays. CANCHA COMPLEJO DEPORTIVO VALLE DE MOGÁN – MOGÁN PUEBLO
URL:https://calendarioeventos.com/en/evento/navidad-en-mogan-2025-19-diciembre/
LOCATION:Plaza Pérez Galdós\, GC-500\, 35120 Arguineguín\, Las Palmas
CATEGORIES:Cultura,Deporte,Eventos gratuitos,Música,Mogán,Teatro
ATTACH;FMTTYPE=image/jpeg:https://calendarioeventos.com/wp-content/uploads/2025/11/IMG_5163-1086x1536-1.avif
END:VEVENT
END:VCALENDAR