BEGIN:VCALENDAR
VERSION:2.0
PRODID:-//Calendario de Eventos Gran Canaria - ECPv6.15.17.1//NONSGML v1.0//EN
CALSCALE:GREGORIAN
METHOD:PUBLISH
X-WR-CALNAME:Calendario de Eventos Gran Canaria
X-ORIGINAL-URL:https://calendarioeventos.com/en
X-WR-CALDESC:Events for Calendario de Eventos Gran Canaria
REFRESH-INTERVAL;VALUE=DURATION:PT1H
X-Robots-Tag:noindex
X-PUBLISHED-TTL:PT1H
BEGIN:VTIMEZONE
TZID:Europe/London
BEGIN:DAYLIGHT
TZOFFSETFROM:+0000
TZOFFSETTO:+0100
TZNAME:BST
DTSTART:20240331T010000
END:DAYLIGHT
BEGIN:STANDARD
TZOFFSETFROM:+0100
TZOFFSETTO:+0000
TZNAME:GMT
DTSTART:20241027T010000
END:STANDARD
BEGIN:DAYLIGHT
TZOFFSETFROM:+0000
TZOFFSETTO:+0100
TZNAME:BST
DTSTART:20250330T010000
END:DAYLIGHT
BEGIN:STANDARD
TZOFFSETFROM:+0100
TZOFFSETTO:+0000
TZNAME:GMT
DTSTART:20251026T010000
END:STANDARD
BEGIN:DAYLIGHT
TZOFFSETFROM:+0000
TZOFFSETTO:+0100
TZNAME:BST
DTSTART:20260329T010000
END:DAYLIGHT
BEGIN:STANDARD
TZOFFSETFROM:+0100
TZOFFSETTO:+0000
TZNAME:GMT
DTSTART:20261025T010000
END:STANDARD
END:VTIMEZONE
BEGIN:VEVENT
DTSTART;TZID=Europe/London:20251206T110000
DTEND;TZID=Europe/London:20251206T220000
DTSTAMP:20260425T142140
CREATED:20251119T133346Z
LAST-MODIFIED:20251119T133346Z
UID:35205-1765018800-1765058400@calendarioeventos.com
SUMMARY:Navidad Vega de San Mateo 6 diciembre
DESCRIPTION:Programa de eventos de la Navidad en la Vega de San Mateo 2025\, Gran Canaria\, del 6 diciembre: \n\n11.00h – Ruta de Belenes y Villancicos RISCO PRIETO\n12.30h – Ruta de Belenes y Villancicos ARIÑEZ\n13.30h – Verbena Navideña con Estrella Latina ARIÑEZ\n17.30h – Ruta de Belenes y Villancicos LA BODEGUILLA\n19.00h – Ruta de Belenes y Villancicos EL CHORRILLO\n20.00h – Verbena Navideña con Los Peques EL CHORRILLO
URL:https://calendarioeventos.com/en/evento/navidad-vega-de-san-mateo-6-diciembre/
LOCATION:San Mateo
CATEGORIES:Entretenimiento,Eventos gratuitos,Música,San Mateo,Verbena
ATTACH;FMTTYPE=image/jpeg:https://calendarioeventos.com/wp-content/uploads/2025/11/IMG_4800-1024x1024-1.avif
END:VEVENT
END:VCALENDAR