BEGIN:VCALENDAR
VERSION:2.0
PRODID:-//Calendario de Eventos Gran Canaria - ECPv6.15.17.1//NONSGML v1.0//EN
CALSCALE:GREGORIAN
METHOD:PUBLISH
X-WR-CALNAME:Calendario de Eventos Gran Canaria
X-ORIGINAL-URL:https://calendarioeventos.com/en
X-WR-CALDESC:Events for Calendario de Eventos Gran Canaria
REFRESH-INTERVAL;VALUE=DURATION:PT1H
X-Robots-Tag:noindex
X-PUBLISHED-TTL:PT1H
BEGIN:VTIMEZONE
TZID:Europe/London
BEGIN:DAYLIGHT
TZOFFSETFROM:+0000
TZOFFSETTO:+0100
TZNAME:BST
DTSTART:20250330T010000
END:DAYLIGHT
BEGIN:STANDARD
TZOFFSETFROM:+0100
TZOFFSETTO:+0000
TZNAME:GMT
DTSTART:20251026T010000
END:STANDARD
BEGIN:DAYLIGHT
TZOFFSETFROM:+0000
TZOFFSETTO:+0100
TZNAME:BST
DTSTART:20260329T010000
END:DAYLIGHT
BEGIN:STANDARD
TZOFFSETFROM:+0100
TZOFFSETTO:+0000
TZNAME:GMT
DTSTART:20261025T010000
END:STANDARD
BEGIN:DAYLIGHT
TZOFFSETFROM:+0000
TZOFFSETTO:+0100
TZNAME:BST
DTSTART:20270328T010000
END:DAYLIGHT
BEGIN:STANDARD
TZOFFSETFROM:+0100
TZOFFSETTO:+0000
TZNAME:GMT
DTSTART:20271031T010000
END:STANDARD
END:VTIMEZONE
BEGIN:VEVENT
DTSTART;TZID=Europe/London:20260117T230000
DTEND;TZID=Europe/London:20260118T003000
DTSTAMP:20260421T055743
CREATED:20251010T092257Z
LAST-MODIFIED:20251225T211829Z
UID:16194-1768690800-1768696200@calendarioeventos.com
SUMMARY:NAYABAND – TRASNOCHE BAIRES
DESCRIPTION:NAYABAND – TRASNOCHE BAIRES en Buenos Aires Jazz Café\, Las Palmas de Gran Canaria. \nEntradas en este enlace. \nUn viaje sonoro por África y el Reggae de la mano de Nayaban Jean y su proyecto NAYABAND\, un aire que respira mestizaje\, raíces africanas y ritmos del mundo. \nReggae\, dub\, blues\, jazz y sonidos africanos como mbalax o soukonss se entrelazan en una experiencia única que ha recorrido escenarios internacionales. \nVen a disfrutar de un espectáculo lleno de sabor\, buena música y la esencia inigualable de Naya Band Jean.\n¡Te esperamos para celebrar juntos este aniversario como se merece! \nEntradas (Aforo Limitado): \n\nEntrada Anticipada: 6€\nEntrada Taquilla: 8€
URL:https://calendarioeventos.com/en/evento/nayaband-trasnoche-baires/
LOCATION:Buenos Aires Jazz Cafe\, C. Mendizábal\, 37\, 35001 Las Palmas de Gran Canaria\, Las Palmas
CATEGORIES:Concierto,Cultura,Las Palmas de GC
ATTACH;FMTTYPE=image/jpeg:https://calendarioeventos.com/wp-content/uploads/2025/10/NUEVO-POST-EVENTOS-82.avif
END:VEVENT
END:VCALENDAR