BEGIN:VCALENDAR
VERSION:2.0
PRODID:-//Calendario de Eventos Gran Canaria - ECPv6.15.17.1//NONSGML v1.0//EN
CALSCALE:GREGORIAN
METHOD:PUBLISH
X-WR-CALNAME:Calendario de Eventos Gran Canaria
X-ORIGINAL-URL:https://calendarioeventos.com/en
X-WR-CALDESC:Events for Calendario de Eventos Gran Canaria
REFRESH-INTERVAL;VALUE=DURATION:PT1H
X-Robots-Tag:noindex
X-PUBLISHED-TTL:PT1H
BEGIN:VTIMEZONE
TZID:Europe/London
BEGIN:DAYLIGHT
TZOFFSETFROM:+0000
TZOFFSETTO:+0100
TZNAME:BST
DTSTART:20240331T010000
END:DAYLIGHT
BEGIN:STANDARD
TZOFFSETFROM:+0100
TZOFFSETTO:+0000
TZNAME:GMT
DTSTART:20241027T010000
END:STANDARD
BEGIN:DAYLIGHT
TZOFFSETFROM:+0000
TZOFFSETTO:+0100
TZNAME:BST
DTSTART:20250330T010000
END:DAYLIGHT
BEGIN:STANDARD
TZOFFSETFROM:+0100
TZOFFSETTO:+0000
TZNAME:GMT
DTSTART:20251026T010000
END:STANDARD
BEGIN:DAYLIGHT
TZOFFSETFROM:+0000
TZOFFSETTO:+0100
TZNAME:BST
DTSTART:20260329T010000
END:DAYLIGHT
BEGIN:STANDARD
TZOFFSETFROM:+0100
TZOFFSETTO:+0000
TZNAME:GMT
DTSTART:20261025T010000
END:STANDARD
END:VTIMEZONE
BEGIN:VEVENT
DTSTART;TZID=Europe/London:20251206T133000
DTEND;TZID=Europe/London:20251206T150000
DTSTAMP:20260424T070007
CREATED:20251207T115256Z
LAST-MODIFIED:20251207T115256Z
UID:41200-1765027800-1765033200@calendarioeventos.com
SUMMARY:Pasacalle y muestra de danza y percusión africana en Tejeda
DESCRIPTION:Ven a disfrutar de la danza y la percusión africanas\, en uno de los pueblos más bonitos de España\, Tejeda.\n13:30h – Pasacalles con percusión y danza por el pueblo.\n14:00h – Muestra de danza y percusión.\n14:30h – Taller de danza africana
URL:https://calendarioeventos.com/en/evento/pasacalle-y-muestra-de-danza-y-percusion-africana-en-tejeda/
LOCATION:Tejeda\, Tejeda\, Las Palmas\, 35360\, España
ATTACH;FMTTYPE=image/jpeg:https://calendarioeventos.com/wp-content/uploads/2025/12/1000373843.avif
END:VEVENT
END:VCALENDAR