BEGIN:VCALENDAR
VERSION:2.0
PRODID:-//Calendario de Eventos Gran Canaria - ECPv6.15.17.1//NONSGML v1.0//EN
CALSCALE:GREGORIAN
METHOD:PUBLISH
X-WR-CALNAME:Calendario de Eventos Gran Canaria
X-ORIGINAL-URL:https://calendarioeventos.com/en
X-WR-CALDESC:Events for Calendario de Eventos Gran Canaria
REFRESH-INTERVAL;VALUE=DURATION:PT1H
X-Robots-Tag:noindex
X-PUBLISHED-TTL:PT1H
BEGIN:VTIMEZONE
TZID:Europe/London
BEGIN:DAYLIGHT
TZOFFSETFROM:+0000
TZOFFSETTO:+0100
TZNAME:BST
DTSTART:20250330T010000
END:DAYLIGHT
BEGIN:STANDARD
TZOFFSETFROM:+0100
TZOFFSETTO:+0000
TZNAME:GMT
DTSTART:20251026T010000
END:STANDARD
BEGIN:DAYLIGHT
TZOFFSETFROM:+0000
TZOFFSETTO:+0100
TZNAME:BST
DTSTART:20260329T010000
END:DAYLIGHT
BEGIN:STANDARD
TZOFFSETFROM:+0100
TZOFFSETTO:+0000
TZNAME:GMT
DTSTART:20261025T010000
END:STANDARD
BEGIN:DAYLIGHT
TZOFFSETFROM:+0000
TZOFFSETTO:+0100
TZNAME:BST
DTSTART:20270328T010000
END:DAYLIGHT
BEGIN:STANDARD
TZOFFSETFROM:+0100
TZOFFSETTO:+0000
TZNAME:GMT
DTSTART:20271031T010000
END:STANDARD
END:VTIMEZONE
BEGIN:VEVENT
DTSTART;TZID=Europe/London:20260227T200000
DTEND;TZID=Europe/London:20260227T213000
DTSTAMP:20260421T105701
CREATED:20260129T103523Z
LAST-MODIFIED:20260217T105127Z
UID:54842-1772222400-1772227800@calendarioeventos.com
SUMMARY:Poesía y danza - Poliedro de amor
DESCRIPTION:Poesía y danza – «Poliedro de amor» en el Teatro Pérez Galdós\, Las Palmas de Gran Canaria. \nLa Compañía Témpore presenta ‘Poliedro de amor’\, un espectáculo de música\, danza y poesía que enaltece las dulces\, amargas e inmortales caras del amor. \n\nNacemos solos. Crecemos en una íntima soledad de mente y cuerpo. Y sabemos que\, solos\, moriremos. \n¿Cómo trascender nuestras particulares y minúsculas vidas? ¿Cómo superar satisfactoriamente este quebranto\, este abismo que no es otro que el de la existencia humana? Solamente\, amando. \nAmando al prójimo\, al amigo\, al amante\, a la madre\, al padre\, al hijo. Amando a Dios\, amando el arte o la ciencia\, amando la vida. Incluso amando hasta límites que\, cual tormento soberano\, alcanzan a destruirnos. \nA veces delicia\, a veces martirio\, el amor es la inagotable fuente que nos sostiene y nos une. El aliento\, siempre insatisfecho\, de los pueblos y humanidad. \n\nEntradas en este enlace. \nTémpore presenta ‘Poliedro de amor’\, un espectáculo original que enaltece las múltiples facetas del amor a través de la música\, la danza y la poesía. \nVoces\, instrumentación\, percusión tribal y movimiento celebran exquisitos textos de grandes poetas del amor\, como Santa Teresa de Jesús\, San Juan de la Cruz\, Gustavo Adolfo Bécquer\, Jorge Luis Borges\, Antonio Gala y Pablo Neruda\, entre otros. \nLa obra\, ideada por la directora artística Yanira Sánchez\, cuenta con el marco sonoro original de Vicente Umpiérrez\, y está protagonizada por una quincena de artistas canarios.
URL:https://calendarioeventos.com/en/evento/poesia-y-danza-poliedro-de-amor/
LOCATION:Teatro Pérez Galdós\, Plaza de Stagno\, 35002 Las Palmas de Gran Canaria\, Las Palmas
CATEGORIES:Cultura,Danza,Las Palmas de GC,Música,Poesía
ATTACH;FMTTYPE=image/jpeg:https://calendarioeventos.com/wp-content/uploads/2026/01/0-12.avif
END:VEVENT
END:VCALENDAR