BEGIN:VCALENDAR
VERSION:2.0
PRODID:-//Calendario de Eventos Gran Canaria - ECPv6.15.17.1//NONSGML v1.0//EN
CALSCALE:GREGORIAN
METHOD:PUBLISH
X-WR-CALNAME:Calendario de Eventos Gran Canaria
X-ORIGINAL-URL:https://calendarioeventos.com/en
X-WR-CALDESC:Events for Calendario de Eventos Gran Canaria
REFRESH-INTERVAL;VALUE=DURATION:PT1H
X-Robots-Tag:noindex
X-PUBLISHED-TTL:PT1H
BEGIN:VTIMEZONE
TZID:Europe/London
BEGIN:DAYLIGHT
TZOFFSETFROM:+0000
TZOFFSETTO:+0100
TZNAME:BST
DTSTART:20250330T010000
END:DAYLIGHT
BEGIN:STANDARD
TZOFFSETFROM:+0100
TZOFFSETTO:+0000
TZNAME:GMT
DTSTART:20251026T010000
END:STANDARD
BEGIN:DAYLIGHT
TZOFFSETFROM:+0000
TZOFFSETTO:+0100
TZNAME:BST
DTSTART:20260329T010000
END:DAYLIGHT
BEGIN:STANDARD
TZOFFSETFROM:+0100
TZOFFSETTO:+0000
TZNAME:GMT
DTSTART:20261025T010000
END:STANDARD
BEGIN:DAYLIGHT
TZOFFSETFROM:+0000
TZOFFSETTO:+0100
TZNAME:BST
DTSTART:20270328T010000
END:DAYLIGHT
BEGIN:STANDARD
TZOFFSETFROM:+0100
TZOFFSETTO:+0000
TZNAME:GMT
DTSTART:20271031T010000
END:STANDARD
END:VTIMEZONE
BEGIN:VEVENT
DTSTART;TZID=Europe/London:20260115T190000
DTEND;TZID=Europe/London:20260115T203000
DTSTAMP:20260423T151939
CREATED:20251230T191715Z
LAST-MODIFIED:20251230T191715Z
UID:48562-1768503600-1768509000@calendarioeventos.com
SUMMARY:Presentación de Libro - Retazos y curiosidades de la historia del sureste
DESCRIPTION:Presentación de Libro ‘Retazos y curiosidades de la historia del sureste’ en la Casa-Museo León y Castillo\, Telde\, Gran Canaria. \nDe Mima Morales. Intervienen: Faneque Hernández y Antonio Castellano Suárez\, historiadores; Mima Morales Suárez\, autoría. \nMima Morales\, hermana del periodista y escritor José Luis Morales\, publicó hace casi 20 años el libro Retazos y curiosidades de la historia del sureste con personajes de Ingenio y Agüimes entre 1791 y 1942\, que ahora vuelve a reeditarse ampliado con la aportación del catedrático de Historia Faneque Hernández\, que ha añadido información\, además del licenciado en Historia Antonio Castellano y el doctor en Historia Agustín Millares. \nActividad gratuita. Aforo limitado.
URL:https://calendarioeventos.com/en/evento/presentacion-de-libro-retazos-y-curiosidades-de-la-historia-del-sureste/
LOCATION:Casa-Museo León y Castillo\, C. León y Castillo\, 43\, 35200 Telde\, Las Palmas
CATEGORIES:Actividades,Eventos gratuitos,Literatura,Presentación,Telde
ATTACH;FMTTYPE=image/png:https://calendarioeventos.com/wp-content/uploads/2025/12/Screenshot-2025-12-30-at-19-16-18-Agenda_Cultural_Cabildo_de_Gran_Canaria.pdf.avif
END:VEVENT
END:VCALENDAR