BEGIN:VCALENDAR
VERSION:2.0
PRODID:-//Calendario de Eventos Gran Canaria - ECPv6.15.17.1//NONSGML v1.0//EN
CALSCALE:GREGORIAN
METHOD:PUBLISH
X-WR-CALNAME:Calendario de Eventos Gran Canaria
X-ORIGINAL-URL:https://calendarioeventos.com/en
X-WR-CALDESC:Events for Calendario de Eventos Gran Canaria
REFRESH-INTERVAL;VALUE=DURATION:PT1H
X-Robots-Tag:noindex
X-PUBLISHED-TTL:PT1H
BEGIN:VTIMEZONE
TZID:Europe/London
BEGIN:DAYLIGHT
TZOFFSETFROM:+0000
TZOFFSETTO:+0100
TZNAME:BST
DTSTART:20250330T010000
END:DAYLIGHT
BEGIN:STANDARD
TZOFFSETFROM:+0100
TZOFFSETTO:+0000
TZNAME:GMT
DTSTART:20251026T010000
END:STANDARD
BEGIN:DAYLIGHT
TZOFFSETFROM:+0000
TZOFFSETTO:+0100
TZNAME:BST
DTSTART:20260329T010000
END:DAYLIGHT
BEGIN:STANDARD
TZOFFSETFROM:+0100
TZOFFSETTO:+0000
TZNAME:GMT
DTSTART:20261025T010000
END:STANDARD
BEGIN:DAYLIGHT
TZOFFSETFROM:+0000
TZOFFSETTO:+0100
TZNAME:BST
DTSTART:20270328T010000
END:DAYLIGHT
BEGIN:STANDARD
TZOFFSETFROM:+0100
TZOFFSETTO:+0000
TZNAME:GMT
DTSTART:20271031T010000
END:STANDARD
END:VTIMEZONE
BEGIN:VEVENT
DTSTART;TZID=Europe/London:20260307T113000
DTEND;TZID=Europe/London:20260307T130000
DTSTAMP:20260420T220848
CREATED:20260306T141056Z
LAST-MODIFIED:20260306T141101Z
UID:64807-1772883000-1772888400@calendarioeventos.com
SUMMARY:Presentación - «Galería ARTE de Pino Ojeda»
DESCRIPTION:Presentación — Publicación «Galería ARTE de Pino Ojeda» en el Museo Castillo de Mata\, Las Palmas de Gran Canaria. \nSábado 7 de marzo a las 11:30.Museo Castillo de Mata. \nEsta publicación es un homenaje a una mujer pionera en la apertura de una galería de arte en Canarias\, a la cual llamó ARTE. \nGalería ARTE. Espacio Creativo Pino Ojeda.
URL:https://calendarioeventos.com/en/evento/presentacion-galeria-arte-de-pino-ojeda/
LOCATION:Museo Castillo de Mata\, C. Domingo Guerra del Río\, 147\, 35002 Las Palmas de Gran Canaria\, Las Palmas
CATEGORIES:Actividades,Arte,Eventos gratuitos,Las Palmas de GC,Presentación
ATTACH;FMTTYPE=image/webp:https://calendarioeventos.com/wp-content/uploads/2026/03/presentaci-n-galer-a-arte-de-pino-ojeda-1772806252799.avif
END:VEVENT
END:VCALENDAR