BEGIN:VCALENDAR
VERSION:2.0
PRODID:-//Calendario de Eventos Gran Canaria - ECPv6.15.17.1//NONSGML v1.0//EN
CALSCALE:GREGORIAN
METHOD:PUBLISH
X-WR-CALNAME:Calendario de Eventos Gran Canaria
X-ORIGINAL-URL:https://calendarioeventos.com/en
X-WR-CALDESC:Events for Calendario de Eventos Gran Canaria
REFRESH-INTERVAL;VALUE=DURATION:PT1H
X-Robots-Tag:noindex
X-PUBLISHED-TTL:PT1H
BEGIN:VTIMEZONE
TZID:Europe/London
BEGIN:DAYLIGHT
TZOFFSETFROM:+0000
TZOFFSETTO:+0100
TZNAME:BST
DTSTART:20250330T010000
END:DAYLIGHT
BEGIN:STANDARD
TZOFFSETFROM:+0100
TZOFFSETTO:+0000
TZNAME:GMT
DTSTART:20251026T010000
END:STANDARD
BEGIN:DAYLIGHT
TZOFFSETFROM:+0000
TZOFFSETTO:+0100
TZNAME:BST
DTSTART:20260329T010000
END:DAYLIGHT
BEGIN:STANDARD
TZOFFSETFROM:+0100
TZOFFSETTO:+0000
TZNAME:GMT
DTSTART:20261025T010000
END:STANDARD
BEGIN:DAYLIGHT
TZOFFSETFROM:+0000
TZOFFSETTO:+0100
TZNAME:BST
DTSTART:20270328T010000
END:DAYLIGHT
BEGIN:STANDARD
TZOFFSETFROM:+0100
TZOFFSETTO:+0000
TZNAME:GMT
DTSTART:20271031T010000
END:STANDARD
END:VTIMEZONE
BEGIN:VEVENT
DTSTART;TZID=Europe/London:20260305T183000
DTEND;TZID=Europe/London:20260305T200000
DTSTAMP:20260423T191043
CREATED:20260302T132057Z
LAST-MODIFIED:20260302T132057Z
UID:63709-1772735400-1772740800@calendarioeventos.com
SUMMARY:Presentación — Libro: «10 mujeres que pusieron a bailar el mundo»
DESCRIPTION:Presentación del Libro «10 mujeres que pusieron a bailar el mundo» en la Biblioteca Insular de Gran Canaria\, Las Palmas de Gran Canaria. \nPresentación del libro «10 Mujeres que pusieron a bailar al mundo» de la periodista Mercedes L. Caballero (@merlcaballero) con un espectáculo de danza por parte de la Compañía de Danza Eva Guerrero.
URL:https://calendarioeventos.com/en/evento/presentacion-libro-10-mujeres-que-pusieron-a-bailar-el-mundo/
LOCATION:Biblioteca Insular de Gran Canaria\, C. Remedios\, 7\, 35002 Las Palmas de Gran Canaria\, Las Palmas
CATEGORIES:Actividades,Danza,Eventos gratuitos,Las Palmas de GC,Literatura,Presentación
ATTACH;FMTTYPE=image/png:https://calendarioeventos.com/wp-content/uploads/2026/02/Screenshot-2026-03-02-at-13-18-19-Primera-Semana-•-Instagram.avif
END:VEVENT
END:VCALENDAR