BEGIN:VCALENDAR
VERSION:2.0
PRODID:-//Calendario de Eventos Gran Canaria - ECPv6.15.17.1//NONSGML v1.0//EN
CALSCALE:GREGORIAN
METHOD:PUBLISH
X-WR-CALNAME:Calendario de Eventos Gran Canaria
X-ORIGINAL-URL:https://calendarioeventos.com/en
X-WR-CALDESC:Events for Calendario de Eventos Gran Canaria
REFRESH-INTERVAL;VALUE=DURATION:PT1H
X-Robots-Tag:noindex
X-PUBLISHED-TTL:PT1H
BEGIN:VTIMEZONE
TZID:Europe/London
BEGIN:DAYLIGHT
TZOFFSETFROM:+0000
TZOFFSETTO:+0100
TZNAME:BST
DTSTART:20250330T010000
END:DAYLIGHT
BEGIN:STANDARD
TZOFFSETFROM:+0100
TZOFFSETTO:+0000
TZNAME:GMT
DTSTART:20251026T010000
END:STANDARD
BEGIN:DAYLIGHT
TZOFFSETFROM:+0000
TZOFFSETTO:+0100
TZNAME:BST
DTSTART:20260329T010000
END:DAYLIGHT
BEGIN:STANDARD
TZOFFSETFROM:+0100
TZOFFSETTO:+0000
TZNAME:GMT
DTSTART:20261025T010000
END:STANDARD
BEGIN:DAYLIGHT
TZOFFSETFROM:+0000
TZOFFSETTO:+0100
TZNAME:BST
DTSTART:20270328T010000
END:DAYLIGHT
BEGIN:STANDARD
TZOFFSETFROM:+0100
TZOFFSETTO:+0000
TZNAME:GMT
DTSTART:20271031T010000
END:STANDARD
END:VTIMEZONE
BEGIN:VEVENT
DTSTART;TZID=Europe/London:20260318T190000
DTEND;TZID=Europe/London:20260318T200000
DTSTAMP:20260419T184250
CREATED:20260308T143950Z
LAST-MODIFIED:20260308T143951Z
UID:65003-1773860400-1773864000@calendarioeventos.com
SUMMARY:Presentación — Libro: «Burbujas: poemas de maternidad agobiada»
DESCRIPTION:Presentación del Libro «Burbujas: poemas de maternidad agobiada» en la Biblioteca Josefina de la Torre\, Las Palmas de Gran Canaria. \nEste poemario es breve pero intenso y refleja el desafío de la mapaternidad\, las prisas\, el caos\, los descuidos\, los llantos y también las alegrías de la familia unida. Entre estas líneas hablo tanto de la alegría del juego como del dolor de la pérdida\, de vestidos de fiesta y paisajes grises. No hay una estructura\, ni un recorrido coherente\, ni una métrica fija porque así es la vida\, una locura caótica incontrolable. \nA cargo de: Esther Cecilia Ramírez Millares (autora).  \nContacto: 928 276 371.  \nAcceso libre hasta completar aforo.
URL:https://calendarioeventos.com/en/evento/presentacion-libro-burbujas-poemas-de-maternidad-agobiada/
LOCATION:Biblioteca Josefina de La Torre\, Paseo de las Canteras\, s/n\, Plaza Agatha Christie\, Las Palmas de Gran Canaria
CATEGORIES:Actividades,Eventos gratuitos,Las Palmas de GC,Literatura,Poesía,Presentación,Solo adultos
ATTACH;FMTTYPE=image/webp:https://calendarioeventos.com/wp-content/uploads/2026/03/jdlt_180326_03_03_2026-n9vYry.avif
END:VEVENT
END:VCALENDAR