BEGIN:VCALENDAR
VERSION:2.0
PRODID:-//Calendario de Eventos Gran Canaria - ECPv6.15.17.1//NONSGML v1.0//EN
CALSCALE:GREGORIAN
METHOD:PUBLISH
X-WR-CALNAME:Calendario de Eventos Gran Canaria
X-ORIGINAL-URL:https://calendarioeventos.com/en
X-WR-CALDESC:Events for Calendario de Eventos Gran Canaria
REFRESH-INTERVAL;VALUE=DURATION:PT1H
X-Robots-Tag:noindex
X-PUBLISHED-TTL:PT1H
BEGIN:VTIMEZONE
TZID:Europe/London
BEGIN:DAYLIGHT
TZOFFSETFROM:+0000
TZOFFSETTO:+0100
TZNAME:BST
DTSTART:20240331T010000
END:DAYLIGHT
BEGIN:STANDARD
TZOFFSETFROM:+0100
TZOFFSETTO:+0000
TZNAME:GMT
DTSTART:20241027T010000
END:STANDARD
BEGIN:DAYLIGHT
TZOFFSETFROM:+0000
TZOFFSETTO:+0100
TZNAME:BST
DTSTART:20250330T010000
END:DAYLIGHT
BEGIN:STANDARD
TZOFFSETFROM:+0100
TZOFFSETTO:+0000
TZNAME:GMT
DTSTART:20251026T010000
END:STANDARD
BEGIN:DAYLIGHT
TZOFFSETFROM:+0000
TZOFFSETTO:+0100
TZNAME:BST
DTSTART:20260329T010000
END:DAYLIGHT
BEGIN:STANDARD
TZOFFSETFROM:+0100
TZOFFSETTO:+0000
TZNAME:GMT
DTSTART:20261025T010000
END:STANDARD
END:VTIMEZONE
BEGIN:VEVENT
DTSTART;TZID=Europe/London:20251216T183000
DTEND;TZID=Europe/London:20251216T193000
DTSTAMP:20260425T200226
CREATED:20251215T101939Z
LAST-MODIFIED:20251215T101939Z
UID:43767-1765909800-1765913400@calendarioeventos.com
SUMMARY:Presentación - Libro: Crónicas de la Pandemia
DESCRIPTION:Presentación del Libro ‘Crónicas de la Pandemia’ de Amós José García Rojas en el Museo Elder\, Las Palmas de Gran Canaria. \nEsta obra trasciende el relato documental para convertirse en una poderosa defensa del conocimiento\, de la dignidad profesional y de la responsabilidad social en tiempos de crisis. \nA lo largo de sus páginas\, se reviven los meses más duros de la pandemia desde múltiples ángulos\, el sanitario\, el político\, el social y\, sobre todo\, el personal. Y se hace a través de un protagonista que no solo representa a miles de profesionales exhaustos\, sino que encarna los valores del servicio público y la ética frente al miedo\, la ignorancia o la mezquindad. \n☑️ Intervendrán en el acto: \nAmós José García Rojas\, autor del libro; Evaristo Quintana Alonso\, periodista y conductor del programa Hoy por Hoy El Drago de la Cadena SER; y José Gilberto Moreno\, director del Museo Elder.
URL:https://calendarioeventos.com/en/evento/presentacion-libro-cronicas-de-la-pandemia/
LOCATION:Museo Elder de la Ciencia y la Tecnología\, Parque Santa Catalina\, 35007 Las Palmas de Gran Canaria\, Las Palmas
CATEGORIES:Actividades,Eventos gratuitos,Las Palmas de GC,Literatura,Presentación
ATTACH;FMTTYPE=image/png:https://calendarioeventos.com/wp-content/uploads/2025/12/Screenshot-2025-12-15-at-10-18-05-Instagram.avif
END:VEVENT
END:VCALENDAR