BEGIN:VCALENDAR
VERSION:2.0
PRODID:-//Calendario de Eventos Gran Canaria - ECPv6.15.17.1//NONSGML v1.0//EN
CALSCALE:GREGORIAN
METHOD:PUBLISH
X-WR-CALNAME:Calendario de Eventos Gran Canaria
X-ORIGINAL-URL:https://calendarioeventos.com/en
X-WR-CALDESC:Events for Calendario de Eventos Gran Canaria
REFRESH-INTERVAL;VALUE=DURATION:PT1H
X-Robots-Tag:noindex
X-PUBLISHED-TTL:PT1H
BEGIN:VTIMEZONE
TZID:Europe/London
BEGIN:DAYLIGHT
TZOFFSETFROM:+0000
TZOFFSETTO:+0100
TZNAME:BST
DTSTART:20240331T010000
END:DAYLIGHT
BEGIN:STANDARD
TZOFFSETFROM:+0100
TZOFFSETTO:+0000
TZNAME:GMT
DTSTART:20241027T010000
END:STANDARD
BEGIN:DAYLIGHT
TZOFFSETFROM:+0000
TZOFFSETTO:+0100
TZNAME:BST
DTSTART:20250330T010000
END:DAYLIGHT
BEGIN:STANDARD
TZOFFSETFROM:+0100
TZOFFSETTO:+0000
TZNAME:GMT
DTSTART:20251026T010000
END:STANDARD
BEGIN:DAYLIGHT
TZOFFSETFROM:+0000
TZOFFSETTO:+0100
TZNAME:BST
DTSTART:20260329T010000
END:DAYLIGHT
BEGIN:STANDARD
TZOFFSETFROM:+0100
TZOFFSETTO:+0000
TZNAME:GMT
DTSTART:20261025T010000
END:STANDARD
END:VTIMEZONE
BEGIN:VEVENT
DTSTART;TZID=Europe/London:20251203T190000
DTEND;TZID=Europe/London:20251203T203000
DTSTAMP:20260425T184240
CREATED:20251127T155631Z
LAST-MODIFIED:20251127T155631Z
UID:37982-1764788400-1764793800@calendarioeventos.com
SUMMARY:Presentación - Libro: El motín de Arucas de 1800
DESCRIPTION:Presentación del libro ‘El motín de Arucas de 1800’ en la Biblioteca Municipal de Arucas\, Gran Canaria. \nPresentación del libro ‘Historia de una revuelta popular impulsada por el hambre’. \nPresentan: Guacimara Medina Pérez\, Juan Jesús Facundo Suárez\, José Gilberto Moreno García\, Ramón Díaz Hernández. \nLa hambruna desatada por el desabastecimiento y la carestía de víveres en Arucas a principios del siglo\nXIX\, propició un levantamiento de los barrios de El Tabaibal\, La Goleta y El Cerrillo\, a los que se unieron\nlos vecinos de Firgas. Esta investigación pormenorizada relata las vicisitudes y los hechos ocurridos que\nse reflejan en los archivos conservados \nActividad gratuita.
URL:https://calendarioeventos.com/en/evento/presentacion-libro-el-motin-de-arucas-de-1800/
LOCATION:Biblioteca Municipal de Arucas\, C. León y Castillo\, 5\, 35400 Arucas\, Las Palmas
CATEGORIES:Actividades,Arucas,Eventos gratuitos,Literatura,Presentación
ATTACH;FMTTYPE=image/png:https://calendarioeventos.com/wp-content/uploads/2025/11/Screenshot-2025-11-27-at-15-55-59-Agenda_Cultural_Cabildo_de_Gran_Canaria.pdf.avif
END:VEVENT
END:VCALENDAR