BEGIN:VCALENDAR
VERSION:2.0
PRODID:-//Calendario de Eventos Gran Canaria - ECPv6.15.17.1//NONSGML v1.0//EN
CALSCALE:GREGORIAN
METHOD:PUBLISH
X-WR-CALNAME:Calendario de Eventos Gran Canaria
X-ORIGINAL-URL:https://calendarioeventos.com/en
X-WR-CALDESC:Events for Calendario de Eventos Gran Canaria
REFRESH-INTERVAL;VALUE=DURATION:PT1H
X-Robots-Tag:noindex
X-PUBLISHED-TTL:PT1H
BEGIN:VTIMEZONE
TZID:Europe/London
BEGIN:DAYLIGHT
TZOFFSETFROM:+0000
TZOFFSETTO:+0100
TZNAME:BST
DTSTART:20250330T010000
END:DAYLIGHT
BEGIN:STANDARD
TZOFFSETFROM:+0100
TZOFFSETTO:+0000
TZNAME:GMT
DTSTART:20251026T010000
END:STANDARD
BEGIN:DAYLIGHT
TZOFFSETFROM:+0000
TZOFFSETTO:+0100
TZNAME:BST
DTSTART:20260329T010000
END:DAYLIGHT
BEGIN:STANDARD
TZOFFSETFROM:+0100
TZOFFSETTO:+0000
TZNAME:GMT
DTSTART:20261025T010000
END:STANDARD
BEGIN:DAYLIGHT
TZOFFSETFROM:+0000
TZOFFSETTO:+0100
TZNAME:BST
DTSTART:20270328T010000
END:DAYLIGHT
BEGIN:STANDARD
TZOFFSETFROM:+0100
TZOFFSETTO:+0000
TZNAME:GMT
DTSTART:20271031T010000
END:STANDARD
END:VTIMEZONE
BEGIN:VEVENT
DTSTART;TZID=Europe/London:20260116T180000
DTEND;TZID=Europe/London:20260116T193000
DTSTAMP:20260423T153726
CREATED:20251225T192228Z
LAST-MODIFIED:20251225T192228Z
UID:47387-1768586400-1768591800@calendarioeventos.com
SUMMARY:Presentación - Libro: Estresado se escribe con X
DESCRIPTION:Presentación del libro «Estresado se escribe con X» por Laia Pérez Ríos en la Biblioteca Pública del Estado de Las Palmas de Gran Canaria. \nSala de actos Manuel Padorno. \nEntrada libre hasta completar aforo. \n  \n  \n 
URL:https://calendarioeventos.com/en/evento/presentacion-libro-estresado-se-escribe-con-x/
LOCATION:Biblioteca Pública del Estado de Las Palmas\, C. Mlle. Las Palmas\, s/n\, 35003 Las Palmas de Gran Canaria\, Las Palmas
CATEGORIES:Actividades,Eventos gratuitos,Las Palmas de GC,Literatura,Presentación
END:VEVENT
END:VCALENDAR