BEGIN:VCALENDAR
VERSION:2.0
PRODID:-//Calendario de Eventos Gran Canaria - ECPv6.15.17.1//NONSGML v1.0//EN
CALSCALE:GREGORIAN
METHOD:PUBLISH
X-WR-CALNAME:Calendario de Eventos Gran Canaria
X-ORIGINAL-URL:https://calendarioeventos.com/en
X-WR-CALDESC:Events for Calendario de Eventos Gran Canaria
REFRESH-INTERVAL;VALUE=DURATION:PT1H
X-Robots-Tag:noindex
X-PUBLISHED-TTL:PT1H
BEGIN:VTIMEZONE
TZID:Europe/London
BEGIN:DAYLIGHT
TZOFFSETFROM:+0000
TZOFFSETTO:+0100
TZNAME:BST
DTSTART:20250330T010000
END:DAYLIGHT
BEGIN:STANDARD
TZOFFSETFROM:+0100
TZOFFSETTO:+0000
TZNAME:GMT
DTSTART:20251026T010000
END:STANDARD
BEGIN:DAYLIGHT
TZOFFSETFROM:+0000
TZOFFSETTO:+0100
TZNAME:BST
DTSTART:20260329T010000
END:DAYLIGHT
BEGIN:STANDARD
TZOFFSETFROM:+0100
TZOFFSETTO:+0000
TZNAME:GMT
DTSTART:20261025T010000
END:STANDARD
BEGIN:DAYLIGHT
TZOFFSETFROM:+0000
TZOFFSETTO:+0100
TZNAME:BST
DTSTART:20270328T010000
END:DAYLIGHT
BEGIN:STANDARD
TZOFFSETFROM:+0100
TZOFFSETTO:+0000
TZNAME:GMT
DTSTART:20271031T010000
END:STANDARD
END:VTIMEZONE
BEGIN:VEVENT
DTSTART;TZID=Europe/London:20260115T180000
DTEND;TZID=Europe/London:20260115T190000
DTSTAMP:20260423T152052
CREATED:20260107T212555Z
LAST-MODIFIED:20260107T212555Z
UID:50345-1768500000-1768503600@calendarioeventos.com
SUMMARY:Presentación - Libro: Hoy
DESCRIPTION:Presentación del Libro «Hoy» de Agustina Guerrero en la librería Agapea Las Palmas de Gran Canaria. \nPresenta Victoria Guez. \n\nActividad gratuita. \nEntrada libre hasta completar el aforo \n\n 
URL:https://calendarioeventos.com/en/evento/presentacion-libro-hoy/
LOCATION:Agapea Las Palmas\, C. José Franchy Roca\, 13\, 35007 Las Palmas de Gran Canaria\, Las Palmas
CATEGORIES:Actividades,Eventos gratuitos,Las Palmas de GC,Literatura,Presentación
ATTACH;FMTTYPE=image/jpeg:https://calendarioeventos.com/wp-content/uploads/2026/01/2026-01-05-18-24-23_695bf3c7f21b8_722x384.avif
END:VEVENT
END:VCALENDAR