BEGIN:VCALENDAR
VERSION:2.0
PRODID:-//Calendario de Eventos Gran Canaria - ECPv6.15.17.1//NONSGML v1.0//EN
CALSCALE:GREGORIAN
METHOD:PUBLISH
X-WR-CALNAME:Calendario de Eventos Gran Canaria
X-ORIGINAL-URL:https://calendarioeventos.com/en
X-WR-CALDESC:Events for Calendario de Eventos Gran Canaria
REFRESH-INTERVAL;VALUE=DURATION:PT1H
X-Robots-Tag:noindex
X-PUBLISHED-TTL:PT1H
BEGIN:VTIMEZONE
TZID:Europe/London
BEGIN:DAYLIGHT
TZOFFSETFROM:+0000
TZOFFSETTO:+0100
TZNAME:BST
DTSTART:20250330T010000
END:DAYLIGHT
BEGIN:STANDARD
TZOFFSETFROM:+0100
TZOFFSETTO:+0000
TZNAME:GMT
DTSTART:20251026T010000
END:STANDARD
BEGIN:DAYLIGHT
TZOFFSETFROM:+0000
TZOFFSETTO:+0100
TZNAME:BST
DTSTART:20260329T010000
END:DAYLIGHT
BEGIN:STANDARD
TZOFFSETFROM:+0100
TZOFFSETTO:+0000
TZNAME:GMT
DTSTART:20261025T010000
END:STANDARD
BEGIN:DAYLIGHT
TZOFFSETFROM:+0000
TZOFFSETTO:+0100
TZNAME:BST
DTSTART:20270328T010000
END:DAYLIGHT
BEGIN:STANDARD
TZOFFSETFROM:+0100
TZOFFSETTO:+0000
TZNAME:GMT
DTSTART:20271031T010000
END:STANDARD
END:VTIMEZONE
BEGIN:VEVENT
DTSTART;TZID=Europe/London:20260305T200000
DTEND;TZID=Europe/London:20260305T210000
DTSTAMP:20260423T185853
CREATED:20260228T154421Z
LAST-MODIFIED:20260302T132803Z
UID:63101-1772740800-1772744400@calendarioeventos.com
SUMMARY:Inauguración - Exposición: «Inocencia salvaje»
DESCRIPTION:Inauguración de la Exposición: «Inocencia salvaje» en el Centro Socio-Cultural LA CASA VERDE\, Firgas\, Gran Canaria. \nA las 20.00 horas del jueves 5 de febrero de 2026\, se procederá a la INAUGURACIÓN en el Centro Socio-Cultural LA CASA VERDE de Firgas\, de la Exposición “Inocencia salvaje: las niñas jarrapas de Andrea Abreu”\, una interpretación visual de Sandra González Reina – @margullito de la conocida obra narrativa de la escritora tinerfeña\, en una muestra promovida por el colectivo @lavincaecologistasenaccion con motivo del Día Internacional de la Mujer 2026. \nLa exposición titulada Inocencia salvaje: las niñas jarrapas de Andrea Abreu\, está estrechamente unida al libro del mismo título que será presentado previamente en el espacio firguense. Se trata de las obras originales que Sandra González Reina (conocida artísticamente como margullito) compuso para leer\, desde un punto de vista gráfico\, las particularidades llamativas de la obra de la tinerfeña Abreu.
URL:https://calendarioeventos.com/en/evento/presentacion-libro-inocencia-salvaje/
LOCATION:Centro Socio Cultural La Casa Verde\, C/ Los Berreros\, nº2\, 35430 Villa de Firgas\, Gran Canaria
CATEGORIES:Actividades,Arte,Eventos gratuitos,Firgas,Inauguración
ATTACH;FMTTYPE=image/png:https://calendarioeventos.com/wp-content/uploads/2026/02/Screenshot-2026-03-02-at-13-27-36-Primera-Semana-•-Instagram.avif
END:VEVENT
END:VCALENDAR