BEGIN:VCALENDAR
VERSION:2.0
PRODID:-//Calendario de Eventos Gran Canaria - ECPv6.15.17.1//NONSGML v1.0//EN
CALSCALE:GREGORIAN
METHOD:PUBLISH
X-WR-CALNAME:Calendario de Eventos Gran Canaria
X-ORIGINAL-URL:https://calendarioeventos.com/en
X-WR-CALDESC:Events for Calendario de Eventos Gran Canaria
REFRESH-INTERVAL;VALUE=DURATION:PT1H
X-Robots-Tag:noindex
X-PUBLISHED-TTL:PT1H
BEGIN:VTIMEZONE
TZID:Europe/London
BEGIN:DAYLIGHT
TZOFFSETFROM:+0000
TZOFFSETTO:+0100
TZNAME:BST
DTSTART:20250330T010000
END:DAYLIGHT
BEGIN:STANDARD
TZOFFSETFROM:+0100
TZOFFSETTO:+0000
TZNAME:GMT
DTSTART:20251026T010000
END:STANDARD
BEGIN:DAYLIGHT
TZOFFSETFROM:+0000
TZOFFSETTO:+0100
TZNAME:BST
DTSTART:20260329T010000
END:DAYLIGHT
BEGIN:STANDARD
TZOFFSETFROM:+0100
TZOFFSETTO:+0000
TZNAME:GMT
DTSTART:20261025T010000
END:STANDARD
BEGIN:DAYLIGHT
TZOFFSETFROM:+0000
TZOFFSETTO:+0100
TZNAME:BST
DTSTART:20270328T010000
END:DAYLIGHT
BEGIN:STANDARD
TZOFFSETFROM:+0100
TZOFFSETTO:+0000
TZNAME:GMT
DTSTART:20271031T010000
END:STANDARD
END:VTIMEZONE
BEGIN:VEVENT
DTSTART;TZID=Europe/London:20260226T180000
DTEND;TZID=Europe/London:20260226T193000
DTSTAMP:20260421T022026
CREATED:20260217T111843Z
LAST-MODIFIED:20260217T111843Z
UID:59752-1772128800-1772134200@calendarioeventos.com
SUMMARY:Presentación - Libro: Lo que abrasa el suelo
DESCRIPTION:Presentación del Libro «Lo que abrasa el suelo» de Elisenda Romano en el Centro de Arte Casa Saturninita de San Fernando de Maspalomas\, Gran Canaria. \n𝗘𝗹𝗶𝘀𝗲𝗻𝗱𝗮 𝗥𝗼𝗺𝗮𝗻𝗼 presenta su nuevo libro\, una obra valiente y profundamente poética que nos invita a mirar aquello que normalmente esquivamos: el suelo de nuestras ciudades\, lo marginal\, lo invisible. Con una voz libre de prejuicios\, la autora transforma alcantarillas\, objetos rotos\, animales callejeros y vidas olvidadas en materia literaria cargada de sentido\, dignidad y belleza. \n𝗨𝗻𝗮 𝗽𝗼𝗹𝗶𝗳𝗼𝗻𝗶́𝗮 𝗽𝘂𝗻𝘇𝗮𝗻𝘁𝗲 𝘆 𝗮𝘁𝗿𝗲𝘃𝗶𝗱𝗮\, que da voz —y mira con amor— a todo lo que la sociedad suele ocultar o ignorar. \nEntrada libre hasta completar aforo. \n 
URL:https://calendarioeventos.com/en/evento/presentacion-libro-lo-que-abrasa-el-suelo/
LOCATION:Casa Saturninita\, C. Artenara\, 4\, 6\, 35100 San Bartolomé de Tirajana\, Las Palmas
CATEGORIES:Actividades,Cultura,Eventos gratuitos,Literatura,Presentación,San Bartolomé de Tirajana
ATTACH;FMTTYPE=image/png:https://calendarioeventos.com/wp-content/uploads/2026/02/Screenshot-2026-02-17-at-11-17-07-Cuarta-Semana-•-Instagram.avif
END:VEVENT
END:VCALENDAR