BEGIN:VCALENDAR
VERSION:2.0
PRODID:-//Calendario de Eventos Gran Canaria - ECPv6.15.17.1//NONSGML v1.0//EN
CALSCALE:GREGORIAN
METHOD:PUBLISH
X-WR-CALNAME:Calendario de Eventos Gran Canaria
X-ORIGINAL-URL:https://calendarioeventos.com/en
X-WR-CALDESC:Events for Calendario de Eventos Gran Canaria
REFRESH-INTERVAL;VALUE=DURATION:PT1H
X-Robots-Tag:noindex
X-PUBLISHED-TTL:PT1H
BEGIN:VTIMEZONE
TZID:Europe/London
BEGIN:DAYLIGHT
TZOFFSETFROM:+0000
TZOFFSETTO:+0100
TZNAME:BST
DTSTART:20250330T010000
END:DAYLIGHT
BEGIN:STANDARD
TZOFFSETFROM:+0100
TZOFFSETTO:+0000
TZNAME:GMT
DTSTART:20251026T010000
END:STANDARD
BEGIN:DAYLIGHT
TZOFFSETFROM:+0000
TZOFFSETTO:+0100
TZNAME:BST
DTSTART:20260329T010000
END:DAYLIGHT
BEGIN:STANDARD
TZOFFSETFROM:+0100
TZOFFSETTO:+0000
TZNAME:GMT
DTSTART:20261025T010000
END:STANDARD
BEGIN:DAYLIGHT
TZOFFSETFROM:+0000
TZOFFSETTO:+0100
TZNAME:BST
DTSTART:20270328T010000
END:DAYLIGHT
BEGIN:STANDARD
TZOFFSETFROM:+0100
TZOFFSETTO:+0000
TZNAME:GMT
DTSTART:20271031T010000
END:STANDARD
END:VTIMEZONE
BEGIN:VEVENT
DTSTART;TZID=Europe/London:20260306T183000
DTEND;TZID=Europe/London:20260306T200000
DTSTAMP:20260420T225608
CREATED:20260306T105106Z
LAST-MODIFIED:20260306T105111Z
UID:64786-1772821800-1772827200@calendarioeventos.com
SUMMARY:Presentación — Libro: «Los que petan son los mejores»
DESCRIPTION:Presentación del Libro «Los que petan son los mejores» en el Gabinete Literario\, Las Palmas de Gran Canaria. \nEl Presidente del Gabinete Literario tiene el placer de invitarle a la presentación del libro\, Los que petan son los mejores de Carole Díaz. Este encuentro literario\, organizado en colaboración con la editorial Chiado Books\, permitirá conocer de cerca la obra de la autora en un entorno emblemático. La cita tendrá lugar el próximo 06 de marzo de 2026 a las 18:30 horas. Entrada libre hasta completar aforo.
URL:https://calendarioeventos.com/en/evento/presentacion-libro-los-que-petan-son-los-mejores/
LOCATION:Gabinete Literario\, Pl. de Cairasco\, 1\, 35002 Las Palmas de Gran Canaria\, Las Palmas
CATEGORIES:Actividades,Eventos gratuitos,Las Palmas de GC,Literatura,Presentación
ATTACH;FMTTYPE=image/jpeg:https://calendarioeventos.com/wp-content/uploads/2026/03/presentaci-n-libro-los-que-petan-son-los-mejor-1772794261749.avif
END:VEVENT
END:VCALENDAR