BEGIN:VCALENDAR
VERSION:2.0
PRODID:-//Calendario de Eventos Gran Canaria - ECPv6.15.17.1//NONSGML v1.0//EN
CALSCALE:GREGORIAN
METHOD:PUBLISH
X-WR-CALNAME:Calendario de Eventos Gran Canaria
X-ORIGINAL-URL:https://calendarioeventos.com/en
X-WR-CALDESC:Events for Calendario de Eventos Gran Canaria
REFRESH-INTERVAL;VALUE=DURATION:PT1H
X-Robots-Tag:noindex
X-PUBLISHED-TTL:PT1H
BEGIN:VTIMEZONE
TZID:Europe/London
BEGIN:DAYLIGHT
TZOFFSETFROM:+0000
TZOFFSETTO:+0100
TZNAME:BST
DTSTART:20250330T010000
END:DAYLIGHT
BEGIN:STANDARD
TZOFFSETFROM:+0100
TZOFFSETTO:+0000
TZNAME:GMT
DTSTART:20251026T010000
END:STANDARD
BEGIN:DAYLIGHT
TZOFFSETFROM:+0000
TZOFFSETTO:+0100
TZNAME:BST
DTSTART:20260329T010000
END:DAYLIGHT
BEGIN:STANDARD
TZOFFSETFROM:+0100
TZOFFSETTO:+0000
TZNAME:GMT
DTSTART:20261025T010000
END:STANDARD
BEGIN:DAYLIGHT
TZOFFSETFROM:+0000
TZOFFSETTO:+0100
TZNAME:BST
DTSTART:20270328T010000
END:DAYLIGHT
BEGIN:STANDARD
TZOFFSETFROM:+0100
TZOFFSETTO:+0000
TZNAME:GMT
DTSTART:20271031T010000
END:STANDARD
END:VTIMEZONE
BEGIN:VEVENT
DTSTART;TZID=Europe/London:20260312T180000
DTEND;TZID=Europe/London:20260312T193000
DTSTAMP:20260423T112539
CREATED:20260305T135232Z
LAST-MODIFIED:20260305T135247Z
UID:64688-1773338400-1773343800@calendarioeventos.com
SUMMARY:Presentación — Libro «Más allá de ella» - Gáldar
DESCRIPTION:Presentación del Libro «Más allá de ella» en la Biblioteca Municipal de Gáldar\, Gáldar\, Gran Canaria. \nDoble cita cultural en la Biblioteca de Gáldar.  \nEste jueves 12 de marzo a las 18:00h te esperamos para la presentación del libro Más allá de ella de Miriam López. El acto se incluye dentro de la programación del Día Internacional de las Mujeres 2026 bajo el lema Mujer y salud mental.  \nEntrada libre y gratuita hasta completar aforo.
URL:https://calendarioeventos.com/en/evento/presentacion-libro-mas-alla-de-ella-galdar/
LOCATION:Biblioteca Pública Municipal de Gáldar\, C. Guaires\, 0\, 35460 Gáldar\, Las Palmas
CATEGORIES:Actividades,Eventos gratuitos,Gáldar,Literatura,Presentación
ATTACH;FMTTYPE=image/jpeg:https://calendarioeventos.com/wp-content/uploads/2026/03/presentaci-n-libro-m-s-all-de-ella-g-ldar-1772718735317.avif
END:VEVENT
END:VCALENDAR