BEGIN:VCALENDAR
VERSION:2.0
PRODID:-//Calendario de Eventos Gran Canaria - ECPv6.15.17.1//NONSGML v1.0//EN
CALSCALE:GREGORIAN
METHOD:PUBLISH
X-WR-CALNAME:Calendario de Eventos Gran Canaria
X-ORIGINAL-URL:https://calendarioeventos.com/en
X-WR-CALDESC:Events for Calendario de Eventos Gran Canaria
REFRESH-INTERVAL;VALUE=DURATION:PT1H
X-Robots-Tag:noindex
X-PUBLISHED-TTL:PT1H
BEGIN:VTIMEZONE
TZID:Europe/London
BEGIN:DAYLIGHT
TZOFFSETFROM:+0000
TZOFFSETTO:+0100
TZNAME:BST
DTSTART:20250330T010000
END:DAYLIGHT
BEGIN:STANDARD
TZOFFSETFROM:+0100
TZOFFSETTO:+0000
TZNAME:GMT
DTSTART:20251026T010000
END:STANDARD
BEGIN:DAYLIGHT
TZOFFSETFROM:+0000
TZOFFSETTO:+0100
TZNAME:BST
DTSTART:20260329T010000
END:DAYLIGHT
BEGIN:STANDARD
TZOFFSETFROM:+0100
TZOFFSETTO:+0000
TZNAME:GMT
DTSTART:20261025T010000
END:STANDARD
BEGIN:DAYLIGHT
TZOFFSETFROM:+0000
TZOFFSETTO:+0100
TZNAME:BST
DTSTART:20270328T010000
END:DAYLIGHT
BEGIN:STANDARD
TZOFFSETFROM:+0100
TZOFFSETTO:+0000
TZNAME:GMT
DTSTART:20271031T010000
END:STANDARD
END:VTIMEZONE
BEGIN:VEVENT
DTSTART;TZID=Europe/London:20260115T183000
DTEND;TZID=Europe/London:20260115T200000
DTSTAMP:20260423T151600
CREATED:20251230T191452Z
LAST-MODIFIED:20251230T191452Z
UID:48561-1768501800-1768507200@calendarioeventos.com
SUMMARY:Presentación - Libro 'Momentos Eróticos Vol. 2'
DESCRIPTION:Presentación de Libro ‘Momentos Eróticos Vol. 2’ en la Biblioteca Insular de Gran Canaria\, Las Palmas de Gran Canaria. \nDe Labios de Hooker. \nPresenta: Jorge Liria\, editor y periodista. \nInterviene: Labios de Hooker\, autora. Novela de bolsillo con 6 microrrelatos eróticos. \nEntrada gratuita. Aforo limitado.
URL:https://calendarioeventos.com/en/evento/presentacion-libro-momentos-eroticos-vol-2/
LOCATION:Biblioteca Insular de Gran Canaria\, C. Remedios\, 7\, 35002 Las Palmas de Gran Canaria\, Las Palmas
CATEGORIES:Actividades,Eventos gratuitos,Las Palmas de GC,Literatura,Presentación
ATTACH;FMTTYPE=image/png:https://calendarioeventos.com/wp-content/uploads/2025/12/Screenshot-2025-12-30-at-19-14-22-Agenda_Cultural_Cabildo_de_Gran_Canaria.pdf.avif
END:VEVENT
END:VCALENDAR