BEGIN:VCALENDAR
VERSION:2.0
PRODID:-//Calendario de Eventos Gran Canaria - ECPv6.15.17.1//NONSGML v1.0//EN
CALSCALE:GREGORIAN
METHOD:PUBLISH
X-WR-CALNAME:Calendario de Eventos Gran Canaria
X-ORIGINAL-URL:https://calendarioeventos.com/en
X-WR-CALDESC:Events for Calendario de Eventos Gran Canaria
REFRESH-INTERVAL;VALUE=DURATION:PT1H
X-Robots-Tag:noindex
X-PUBLISHED-TTL:PT1H
BEGIN:VTIMEZONE
TZID:Europe/London
BEGIN:DAYLIGHT
TZOFFSETFROM:+0000
TZOFFSETTO:+0100
TZNAME:BST
DTSTART:20250330T010000
END:DAYLIGHT
BEGIN:STANDARD
TZOFFSETFROM:+0100
TZOFFSETTO:+0000
TZNAME:GMT
DTSTART:20251026T010000
END:STANDARD
BEGIN:DAYLIGHT
TZOFFSETFROM:+0000
TZOFFSETTO:+0100
TZNAME:BST
DTSTART:20260329T010000
END:DAYLIGHT
BEGIN:STANDARD
TZOFFSETFROM:+0100
TZOFFSETTO:+0000
TZNAME:GMT
DTSTART:20261025T010000
END:STANDARD
BEGIN:DAYLIGHT
TZOFFSETFROM:+0000
TZOFFSETTO:+0100
TZNAME:BST
DTSTART:20270328T010000
END:DAYLIGHT
BEGIN:STANDARD
TZOFFSETFROM:+0100
TZOFFSETTO:+0000
TZNAME:GMT
DTSTART:20271031T010000
END:STANDARD
END:VTIMEZONE
BEGIN:VEVENT
DTSTART;TZID=Europe/London:20260305T170000
DTEND;TZID=Europe/London:20260305T183000
DTSTAMP:20260423T185845
CREATED:20260303T213126Z
LAST-MODIFIED:20260303T213126Z
UID:64255-1772730000-1772735400@calendarioeventos.com
SUMMARY:Presentación - Libro: “Momentos eróticos”
DESCRIPTION:Presentación del libro: “Momentos eróticos” de Labios de Hooker en la Ermita San Pedro Mártir de Verona\, Telde\, Gran Canaria. \nMUJERES DE TELDE: Las Emociones Hablan. \n¡Continúa la programación en la Iglesia Hospitalaria San Pedro Mártir de Verona!
URL:https://calendarioeventos.com/en/evento/presentacion-libro-momentos-eroticos/
LOCATION:Ermita de San Pedro Mártir\, 35200 Telde\, Las Palmas
CATEGORIES:Actividades,Eventos gratuitos,Literatura,Presentación,Telde
ATTACH;FMTTYPE=image/png:https://calendarioeventos.com/wp-content/uploads/2026/03/Screenshot-2026-03-03-at-21-27-37-Instagram.avif
END:VEVENT
END:VCALENDAR