BEGIN:VCALENDAR
VERSION:2.0
PRODID:-//Calendario de Eventos Gran Canaria - ECPv6.15.17.1//NONSGML v1.0//EN
CALSCALE:GREGORIAN
METHOD:PUBLISH
X-WR-CALNAME:Calendario de Eventos Gran Canaria
X-ORIGINAL-URL:https://calendarioeventos.com/en
X-WR-CALDESC:Events for Calendario de Eventos Gran Canaria
REFRESH-INTERVAL;VALUE=DURATION:PT1H
X-Robots-Tag:noindex
X-PUBLISHED-TTL:PT1H
BEGIN:VTIMEZONE
TZID:Europe/London
BEGIN:DAYLIGHT
TZOFFSETFROM:+0000
TZOFFSETTO:+0100
TZNAME:BST
DTSTART:20240331T010000
END:DAYLIGHT
BEGIN:STANDARD
TZOFFSETFROM:+0100
TZOFFSETTO:+0000
TZNAME:GMT
DTSTART:20241027T010000
END:STANDARD
BEGIN:DAYLIGHT
TZOFFSETFROM:+0000
TZOFFSETTO:+0100
TZNAME:BST
DTSTART:20250330T010000
END:DAYLIGHT
BEGIN:STANDARD
TZOFFSETFROM:+0100
TZOFFSETTO:+0000
TZNAME:GMT
DTSTART:20251026T010000
END:STANDARD
BEGIN:DAYLIGHT
TZOFFSETFROM:+0000
TZOFFSETTO:+0100
TZNAME:BST
DTSTART:20260329T010000
END:DAYLIGHT
BEGIN:STANDARD
TZOFFSETFROM:+0100
TZOFFSETTO:+0000
TZNAME:GMT
DTSTART:20261025T010000
END:STANDARD
END:VTIMEZONE
BEGIN:VEVENT
DTSTART;TZID=Europe/London:20251218T190000
DTEND;TZID=Europe/London:20251218T203000
DTSTAMP:20260425T172313
CREATED:20251211T131936Z
LAST-MODIFIED:20251215T112129Z
UID:42723-1766084400-1766089800@calendarioeventos.com
SUMMARY:Presentación - Libro: Poesía libre\, donde habita el alma
DESCRIPTION:Presentación del libro «Poesía libre\, donde habita el alma» por María del Pino Saavedra en la Biblioteca Pública del Estado de Las Palmas de Gran Canaria. \nEdita Canarias eBook \nSala de Actos Manuel Padorno. \nEntrada libre hasta completar aforo \n  \n  \n 
URL:https://calendarioeventos.com/en/evento/presentacion-libro-poesia-libre-donde-habita-el-alma/
LOCATION:Biblioteca Pública del Estado de Las Palmas\, C. Mlle. Las Palmas\, s/n\, 35003 Las Palmas de Gran Canaria\, Las Palmas
CATEGORIES:Actividades,Cultura,Eventos gratuitos,Las Palmas de GC,Literatura,Municipio,Poesía,Precio,Presentación
ATTACH;FMTTYPE=image/png:https://calendarioeventos.com/wp-content/uploads/2025/12/Screenshot-2025-12-15-at-11-19-59-Instagram.avif
END:VEVENT
END:VCALENDAR