BEGIN:VCALENDAR
VERSION:2.0
PRODID:-//Calendario de Eventos Gran Canaria - ECPv6.15.17.1//NONSGML v1.0//EN
CALSCALE:GREGORIAN
METHOD:PUBLISH
X-WR-CALNAME:Calendario de Eventos Gran Canaria
X-ORIGINAL-URL:https://calendarioeventos.com/en
X-WR-CALDESC:Events for Calendario de Eventos Gran Canaria
REFRESH-INTERVAL;VALUE=DURATION:PT1H
X-Robots-Tag:noindex
X-PUBLISHED-TTL:PT1H
BEGIN:VTIMEZONE
TZID:Europe/London
BEGIN:DAYLIGHT
TZOFFSETFROM:+0000
TZOFFSETTO:+0100
TZNAME:BST
DTSTART:20250330T010000
END:DAYLIGHT
BEGIN:STANDARD
TZOFFSETFROM:+0100
TZOFFSETTO:+0000
TZNAME:GMT
DTSTART:20251026T010000
END:STANDARD
BEGIN:DAYLIGHT
TZOFFSETFROM:+0000
TZOFFSETTO:+0100
TZNAME:BST
DTSTART:20260329T010000
END:DAYLIGHT
BEGIN:STANDARD
TZOFFSETFROM:+0100
TZOFFSETTO:+0000
TZNAME:GMT
DTSTART:20261025T010000
END:STANDARD
BEGIN:DAYLIGHT
TZOFFSETFROM:+0000
TZOFFSETTO:+0100
TZNAME:BST
DTSTART:20270328T010000
END:DAYLIGHT
BEGIN:STANDARD
TZOFFSETFROM:+0100
TZOFFSETTO:+0000
TZNAME:GMT
DTSTART:20271031T010000
END:STANDARD
END:VTIMEZONE
BEGIN:VEVENT
DTSTART;TZID=Europe/London:20260115T180000
DTEND;TZID=Europe/London:20260115T193000
DTSTAMP:20260423T151406
CREATED:20251229T105748Z
LAST-MODIFIED:20251229T105748Z
UID:48221-1768500000-1768505400@calendarioeventos.com
SUMMARY:Presentación - Libro: Presidentes a pie de muelle
DESCRIPTION:Presentación del Libro ‘Presidentes a pie de muelle’ de Manuel Vidal en el Museo Elder\, Las Palmas de Gran Canaria. \nLa Federación de Operadores Logísticos y Servicios Portuarios (Oneport) lanza el libro Presidentes a pie de muelle\, una obra del periodista Manuel Vidal que rescata la memoria histórica de los 28 presidentes que han forjado el destino de esta institución. \nA lo largo de sus páginas\, el libro detalla cómo la institución ha navegado a través de retos históricos globales\, entre ellos los conflictos internacionales de las Guerras Mundiales y la Guerra Civil Española\, crisis logísticas como el cierre del Canal de Suez y su repercusión en Canarias\, lo hitos como la integración de los puertos de Arrecife y Puerto del Rosario en 1988\, y la incorporación de Arinaga en 1992.
URL:https://calendarioeventos.com/en/evento/presentacion-libro-presidentes-a-pie-de-muelle/
LOCATION:Museo Elder de la Ciencia y la Tecnología\, Parque Santa Catalina\, 35007 Las Palmas de Gran Canaria\, Las Palmas
CATEGORIES:Actividades,Eventos gratuitos,Las Palmas de GC,Literatura,Presentación
ATTACH;FMTTYPE=image/webp:https://calendarioeventos.com/wp-content/uploads/2025/12/diseno-sin-titulo-2025-12-24t194251-591_4_1000x563.avif
END:VEVENT
END:VCALENDAR