BEGIN:VCALENDAR
VERSION:2.0
PRODID:-//Calendario de Eventos Gran Canaria - ECPv6.15.17.1//NONSGML v1.0//EN
CALSCALE:GREGORIAN
METHOD:PUBLISH
X-WR-CALNAME:Calendario de Eventos Gran Canaria
X-ORIGINAL-URL:https://calendarioeventos.com/en
X-WR-CALDESC:Events for Calendario de Eventos Gran Canaria
REFRESH-INTERVAL;VALUE=DURATION:PT1H
X-Robots-Tag:noindex
X-PUBLISHED-TTL:PT1H
BEGIN:VTIMEZONE
TZID:Europe/London
BEGIN:DAYLIGHT
TZOFFSETFROM:+0000
TZOFFSETTO:+0100
TZNAME:BST
DTSTART:20250330T010000
END:DAYLIGHT
BEGIN:STANDARD
TZOFFSETFROM:+0100
TZOFFSETTO:+0000
TZNAME:GMT
DTSTART:20251026T010000
END:STANDARD
BEGIN:DAYLIGHT
TZOFFSETFROM:+0000
TZOFFSETTO:+0100
TZNAME:BST
DTSTART:20260329T010000
END:DAYLIGHT
BEGIN:STANDARD
TZOFFSETFROM:+0100
TZOFFSETTO:+0000
TZNAME:GMT
DTSTART:20261025T010000
END:STANDARD
BEGIN:DAYLIGHT
TZOFFSETFROM:+0000
TZOFFSETTO:+0100
TZNAME:BST
DTSTART:20270328T010000
END:DAYLIGHT
BEGIN:STANDARD
TZOFFSETFROM:+0100
TZOFFSETTO:+0000
TZNAME:GMT
DTSTART:20271031T010000
END:STANDARD
END:VTIMEZONE
BEGIN:VEVENT
DTSTART;TZID=Europe/London:20260129T183000
DTEND;TZID=Europe/London:20260129T200000
DTSTAMP:20260421T034232
CREATED:20251007T170221Z
LAST-MODIFIED:20251230T190237Z
UID:15355-1769711400-1769716800@calendarioeventos.com
SUMMARY:Presentación - Libro: Todo lo que no ves
DESCRIPTION:Presentación del Libro «Todo lo que no ves» de Aranzazu G. Butler en la Biblioteca Insular de Las Palmas de Gran Canaria. \nTodo lo que no ves es un relato honesto y conmovedor que nos sumerge en la historia de una mujer que\, a través del dolor\, la pérdida y la búsqueda de identidad\, se abre paso hacia la sanación. \nCon una narrativa envolvente y una sinceridad apabullante\, la autora nos invita a reflexionar sobre los lazos familiares\, el peso del pasado y la capacidad del ser humano para reconstruirse a sí mismo. Una lectura imprescindible para quienes buscan historias de vidas reales\, conmovedoras y llenas de valentía. \nIntervienen: Aranzazu G. Butler\, autora \n  \n  \n  \n 
URL:https://calendarioeventos.com/en/evento/presentacion-libro-todo-lo-que-no-ves/
LOCATION:Biblioteca Insular de Gran Canaria\, C. Remedios\, 7\, 35002 Las Palmas de Gran Canaria\, Las Palmas
CATEGORIES:Actividades,Cultura,Eventos gratuitos,Las Palmas de GC,Literatura,Municipio,Precio,Presentación
ATTACH;FMTTYPE=image/png:https://calendarioeventos.com/wp-content/uploads/2025/10/Screenshot-2025-12-30-at-19-00-59-Agenda_Cultural_Cabildo_de_Gran_Canaria.pdf.avif
END:VEVENT
END:VCALENDAR