BEGIN:VCALENDAR
VERSION:2.0
PRODID:-//Calendario de Eventos Gran Canaria - ECPv6.15.17.1//NONSGML v1.0//EN
CALSCALE:GREGORIAN
METHOD:PUBLISH
X-WR-CALNAME:Calendario de Eventos Gran Canaria
X-ORIGINAL-URL:https://calendarioeventos.com/en
X-WR-CALDESC:Events for Calendario de Eventos Gran Canaria
REFRESH-INTERVAL;VALUE=DURATION:PT1H
X-Robots-Tag:noindex
X-PUBLISHED-TTL:PT1H
BEGIN:VTIMEZONE
TZID:Europe/London
BEGIN:DAYLIGHT
TZOFFSETFROM:+0000
TZOFFSETTO:+0100
TZNAME:BST
DTSTART:20250330T010000
END:DAYLIGHT
BEGIN:STANDARD
TZOFFSETFROM:+0100
TZOFFSETTO:+0000
TZNAME:GMT
DTSTART:20251026T010000
END:STANDARD
BEGIN:DAYLIGHT
TZOFFSETFROM:+0000
TZOFFSETTO:+0100
TZNAME:BST
DTSTART:20260329T010000
END:DAYLIGHT
BEGIN:STANDARD
TZOFFSETFROM:+0100
TZOFFSETTO:+0000
TZNAME:GMT
DTSTART:20261025T010000
END:STANDARD
BEGIN:DAYLIGHT
TZOFFSETFROM:+0000
TZOFFSETTO:+0100
TZNAME:BST
DTSTART:20270328T010000
END:DAYLIGHT
BEGIN:STANDARD
TZOFFSETFROM:+0100
TZOFFSETTO:+0000
TZNAME:GMT
DTSTART:20271031T010000
END:STANDARD
END:VTIMEZONE
BEGIN:VEVENT
DTSTART;TZID=Europe/London:20260317T180000
DTEND;TZID=Europe/London:20260317T193000
DTSTAMP:20260419T141907
CREATED:20260316T213434Z
LAST-MODIFIED:20260316T213434Z
UID:66476-1773770400-1773775800@calendarioeventos.com
SUMMARY:Presentación - Libro: Un Paraíso Herido
DESCRIPTION:Presentación del Libro «Un Paraíso Herido» en el Teatro Guiniguada\, Las Palmas de Gran Canaria. \nLa Filmoteca Canaria acoge la presentación del libro Un paraíso herido. De cómo Hollywood reinventó las Islas Canarias\, del historiador del arte y profesor de la Universidad de La Laguna Gonzalo M. Pavés. En este acto\, el autor estará acompañado por su colaborador Juan Antonio Ribas Pérez\, figura clave en la difusión del cine en Canarias desde el Aula de Cine de la ULL. \nEl libro es un trabajo de investigación en torno a la película estadounidense Grand Canary (Fox\, 1934)\, una producción rodada en Hollywood cuya trama\, ambientada en el archipiélago\, indignó a los emigrantes isleños por la imagen distorsionada y dañina que ofrecía de Canarias. Pavés reconstruye la repercusión de este film\, las protestas que generó y las consecuencias que tuvo para la construcción de la imagen exterior de las islas en un momento clave para el despegue del turismo. \nLa presentación tendrá lugar en Teatro Guiniguada el 17 de marzo de 2026 a las 18:00h. La entrada es libre hasta completar aforo. \nEntrada gratuita hasta completar aforo.
URL:https://calendarioeventos.com/en/evento/presentacion-libro-un-paraiso-herido/
LOCATION:Teatro Guiniguada\, C. Mesa de León\, 2\, 35001 Las Palmas de Gran Canaria\, Las Palmas
CATEGORIES:Actividades,Cine,Eventos gratuitos,Las Palmas de GC,Literatura,Presentación
ATTACH;FMTTYPE=image/jpeg:https://calendarioeventos.com/wp-content/uploads/2026/03/978841969463.jpg
END:VEVENT
END:VCALENDAR