BEGIN:VCALENDAR
VERSION:2.0
PRODID:-//Calendario de Eventos Gran Canaria - ECPv6.15.17.1//NONSGML v1.0//EN
CALSCALE:GREGORIAN
METHOD:PUBLISH
X-WR-CALNAME:Calendario de Eventos Gran Canaria
X-ORIGINAL-URL:https://calendarioeventos.com/en
X-WR-CALDESC:Events for Calendario de Eventos Gran Canaria
REFRESH-INTERVAL;VALUE=DURATION:PT1H
X-Robots-Tag:noindex
X-PUBLISHED-TTL:PT1H
BEGIN:VTIMEZONE
TZID:Europe/London
BEGIN:DAYLIGHT
TZOFFSETFROM:+0000
TZOFFSETTO:+0100
TZNAME:BST
DTSTART:20250330T010000
END:DAYLIGHT
BEGIN:STANDARD
TZOFFSETFROM:+0100
TZOFFSETTO:+0000
TZNAME:GMT
DTSTART:20251026T010000
END:STANDARD
BEGIN:DAYLIGHT
TZOFFSETFROM:+0000
TZOFFSETTO:+0100
TZNAME:BST
DTSTART:20260329T010000
END:DAYLIGHT
BEGIN:STANDARD
TZOFFSETFROM:+0100
TZOFFSETTO:+0000
TZNAME:GMT
DTSTART:20261025T010000
END:STANDARD
BEGIN:DAYLIGHT
TZOFFSETFROM:+0000
TZOFFSETTO:+0100
TZNAME:BST
DTSTART:20270328T010000
END:DAYLIGHT
BEGIN:STANDARD
TZOFFSETFROM:+0100
TZOFFSETTO:+0000
TZNAME:GMT
DTSTART:20271031T010000
END:STANDARD
END:VTIMEZONE
BEGIN:VEVENT
DTSTART;TZID=Europe/London:20260117T180000
DTEND;TZID=Europe/London:20260117T193000
DTSTAMP:20260421T034103
CREATED:20251223T182930Z
LAST-MODIFIED:20251223T182930Z
UID:46928-1768672800-1768678200@calendarioeventos.com
SUMMARY:Presentación - Murga Kirinetas
DESCRIPTION:Presentación 2026 de la Murga Kirinetas en el Nuevo Teatro Viejo de Arucas\, Gran Canaria. \nLas Kikirinietas estaremos listas para darlo TODO 💥 después de muuuchos meses de trabajo\, risas\, nervios y mucha ilusión 💪💫 \n🎶 Será una noche mágica\, llena de sorpresas\, energía y corazón ❤️\nMuy pronto les contaremos quién nos acompañará en este día tan especial 👀✨ \n📝 ¡Así que ya saben! Apunten la fecha\, pongan alarma y no se lo pierdan
URL:https://calendarioeventos.com/en/evento/presentacion-murga-kirinetas/
LOCATION:Nuevo Teatro Viejo\, C. San Juan\, 20\, 35400 Arucas\, Las Palmas
CATEGORIES:Actividades,Arucas,Carnaval,Humor,Música,Presentación
ATTACH;FMTTYPE=image/png:https://calendarioeventos.com/wp-content/uploads/2025/12/Screenshot-2025-12-23-at-18-27-24-Instagram.avif
END:VEVENT
END:VCALENDAR