BEGIN:VCALENDAR
VERSION:2.0
PRODID:-//Calendario de Eventos Gran Canaria - ECPv6.15.17.1//NONSGML v1.0//EN
CALSCALE:GREGORIAN
METHOD:PUBLISH
X-WR-CALNAME:Calendario de Eventos Gran Canaria
X-ORIGINAL-URL:https://calendarioeventos.com/en
X-WR-CALDESC:Events for Calendario de Eventos Gran Canaria
REFRESH-INTERVAL;VALUE=DURATION:PT1H
X-Robots-Tag:noindex
X-PUBLISHED-TTL:PT1H
BEGIN:VTIMEZONE
TZID:Europe/London
BEGIN:DAYLIGHT
TZOFFSETFROM:+0000
TZOFFSETTO:+0100
TZNAME:BST
DTSTART:20250330T010000
END:DAYLIGHT
BEGIN:STANDARD
TZOFFSETFROM:+0100
TZOFFSETTO:+0000
TZNAME:GMT
DTSTART:20251026T010000
END:STANDARD
BEGIN:DAYLIGHT
TZOFFSETFROM:+0000
TZOFFSETTO:+0100
TZNAME:BST
DTSTART:20260329T010000
END:DAYLIGHT
BEGIN:STANDARD
TZOFFSETFROM:+0100
TZOFFSETTO:+0000
TZNAME:GMT
DTSTART:20261025T010000
END:STANDARD
BEGIN:DAYLIGHT
TZOFFSETFROM:+0000
TZOFFSETTO:+0100
TZNAME:BST
DTSTART:20270328T010000
END:DAYLIGHT
BEGIN:STANDARD
TZOFFSETFROM:+0100
TZOFFSETTO:+0000
TZNAME:GMT
DTSTART:20271031T010000
END:STANDARD
END:VTIMEZONE
BEGIN:VEVENT
DTSTART;TZID=Europe/London:20260125T163000
DTEND;TZID=Europe/London:20260125T210000
DTSTAMP:20260421T223613
CREATED:20260107T212235Z
LAST-MODIFIED:20260107T212235Z
UID:50342-1769358600-1769374800@calendarioeventos.com
SUMMARY:Presentación - Murga "Los Legañosos"
DESCRIPTION:Presentación de la Murga «Los Legañosos» en el Centro Cultural Federico García Lorca\, Ingenio\, Gran Canaria. \n2 pases\, a las 16:30 y 19:30h.
URL:https://calendarioeventos.com/en/evento/presentacion-murga-los-leganosos/
LOCATION:Centro Cultural Federico García Lorca\, C. Ramón y Cajal\, 19\, 35250 Ingenio\, Las Palmas
CATEGORIES:Actividades,Carnaval,Humor,Ingenio,Música,Presentación
ATTACH;FMTTYPE=image/jpeg:https://calendarioeventos.com/wp-content/uploads/2026/01/0126-Cartel-presentacion-leganosos.avif
END:VEVENT
END:VCALENDAR