BEGIN:VCALENDAR
VERSION:2.0
PRODID:-//Calendario de Eventos Gran Canaria - ECPv6.15.17.1//NONSGML v1.0//EN
CALSCALE:GREGORIAN
METHOD:PUBLISH
X-WR-CALNAME:Calendario de Eventos Gran Canaria
X-ORIGINAL-URL:https://calendarioeventos.com/en
X-WR-CALDESC:Events for Calendario de Eventos Gran Canaria
REFRESH-INTERVAL;VALUE=DURATION:PT1H
X-Robots-Tag:noindex
X-PUBLISHED-TTL:PT1H
BEGIN:VTIMEZONE
TZID:Europe/London
BEGIN:DAYLIGHT
TZOFFSETFROM:+0000
TZOFFSETTO:+0100
TZNAME:BST
DTSTART:20250330T010000
END:DAYLIGHT
BEGIN:STANDARD
TZOFFSETFROM:+0100
TZOFFSETTO:+0000
TZNAME:GMT
DTSTART:20251026T010000
END:STANDARD
BEGIN:DAYLIGHT
TZOFFSETFROM:+0000
TZOFFSETTO:+0100
TZNAME:BST
DTSTART:20260329T010000
END:DAYLIGHT
BEGIN:STANDARD
TZOFFSETFROM:+0100
TZOFFSETTO:+0000
TZNAME:GMT
DTSTART:20261025T010000
END:STANDARD
BEGIN:DAYLIGHT
TZOFFSETFROM:+0000
TZOFFSETTO:+0100
TZNAME:BST
DTSTART:20270328T010000
END:DAYLIGHT
BEGIN:STANDARD
TZOFFSETFROM:+0100
TZOFFSETTO:+0000
TZNAME:GMT
DTSTART:20271031T010000
END:STANDARD
END:VTIMEZONE
BEGIN:VEVENT
DTSTART;TZID=Europe/London:20260122T190000
DTEND;TZID=Europe/London:20260122T203000
DTSTAMP:20260423T201118
CREATED:20251230T191829Z
LAST-MODIFIED:20251230T191829Z
UID:48564-1769108400-1769113800@calendarioeventos.com
SUMMARY:Presentación - Premio de Investigación León y Castillo 2023
DESCRIPTION:Presentación ‘Premio de Investigación León y Castillo 2023’ en la Casa-Museo León y Castillo\, Telde\, Gran Canaria. \nLa Casa-Museo León y Castillo acoge la presentación del Premio de Investigación Histórica Léon y Castillo 2023\, otorgado a Luz Marina Delgado Hernández\, con el trabajo titulado ‘Las posesiones de los León y Castillo en Telde y en otros municipios grancanarios\, a través de los Protocolos Notariales del Archivo Histórico Provincial de Las Palmas: una aproximación a sus ubicaciones’. \nIntervienen Guacimara Medina Pérez\, José Alejandro Díaz Hernández y la autora. \nEntrada gratuita.
URL:https://calendarioeventos.com/en/evento/presentacion-premio-de-investigacion-leon-y-castillo-2023/
LOCATION:Casa-Museo León y Castillo\, C. León y Castillo\, 43\, 35200 Telde\, Las Palmas
CATEGORIES:Actividades,Eventos gratuitos,Literatura,Presentación,Telde
ATTACH;FMTTYPE=image/png:https://calendarioeventos.com/wp-content/uploads/2025/12/Screenshot-2025-12-30-at-19-17-21-Agenda_Cultural_Cabildo_de_Gran_Canaria.pdf.avif
END:VEVENT
END:VCALENDAR