BEGIN:VCALENDAR
VERSION:2.0
PRODID:-//Calendario de Eventos Gran Canaria - ECPv6.15.17.1//NONSGML v1.0//EN
CALSCALE:GREGORIAN
METHOD:PUBLISH
X-WR-CALNAME:Calendario de Eventos Gran Canaria
X-ORIGINAL-URL:https://calendarioeventos.com/en
X-WR-CALDESC:Events for Calendario de Eventos Gran Canaria
REFRESH-INTERVAL;VALUE=DURATION:PT1H
X-Robots-Tag:noindex
X-PUBLISHED-TTL:PT1H
BEGIN:VTIMEZONE
TZID:Europe/London
BEGIN:DAYLIGHT
TZOFFSETFROM:+0000
TZOFFSETTO:+0100
TZNAME:BST
DTSTART:20240331T010000
END:DAYLIGHT
BEGIN:STANDARD
TZOFFSETFROM:+0100
TZOFFSETTO:+0000
TZNAME:GMT
DTSTART:20241027T010000
END:STANDARD
BEGIN:DAYLIGHT
TZOFFSETFROM:+0000
TZOFFSETTO:+0100
TZNAME:BST
DTSTART:20250330T010000
END:DAYLIGHT
BEGIN:STANDARD
TZOFFSETFROM:+0100
TZOFFSETTO:+0000
TZNAME:GMT
DTSTART:20251026T010000
END:STANDARD
BEGIN:DAYLIGHT
TZOFFSETFROM:+0000
TZOFFSETTO:+0100
TZNAME:BST
DTSTART:20260329T010000
END:DAYLIGHT
BEGIN:STANDARD
TZOFFSETFROM:+0100
TZOFFSETTO:+0000
TZNAME:GMT
DTSTART:20261025T010000
END:STANDARD
END:VTIMEZONE
BEGIN:VEVENT
DTSTART;TZID=Europe/London:20251216T193000
DTEND;TZID=Europe/London:20251216T210000
DTSTAMP:20260425T200222
CREATED:20251212T093359Z
LAST-MODIFIED:20251215T113018Z
UID:43063-1765913400-1765918800@calendarioeventos.com
SUMMARY:Presentación - Soy Frontera
DESCRIPTION:Presentación de la obra de Teatro «Soy Frontera» y acto de lectura de la Declaración de Derechos Humanos en la Sala Polivalente del Cabildo de Gran Canaria\, Las Palmas de Gran Canaria. \nSALA POLIVALENTE- 3ª planta Cabildo de Gran Canaria\n🌍La Consejería de Solidaridad Internacional del Cabildo de Gran Canaria\, siguiendo con su calendario de actividades de información\, concienciación y sensibilización\, tiene previsto conmemorar este Día con la representación de la obra de teatro SOY FRONTERA\, de Lorena Avilés\, y el acto de lectura de la Declaración Universal de los Derechos Humanos.🌐 \n☀️Porque los derechos de las personas migrantes son Derechos Humanos que hay que respetar\, promover\, proteger y hacer cumplir\, además de destacar su contribución al desarrollo en los países de origen y destino.🙌
URL:https://calendarioeventos.com/en/evento/presentacion-soy-frontera/
LOCATION:Cabildo Insular de Gran Canaria\, C. Bravo Murillo\, 23\, 35002 Las Palmas de Gran Canaria\, Las Palmas
CATEGORIES:Actividades,Eventos gratuitos,Las Palmas de GC,Presentación,Teatro
ATTACH;FMTTYPE=image/png:https://calendarioeventos.com/wp-content/uploads/2025/12/Screenshot-2025-12-12-at-09-29-10-Instagram.avif
END:VEVENT
END:VCALENDAR