BEGIN:VCALENDAR
VERSION:2.0
PRODID:-//Calendario de Eventos Gran Canaria - ECPv6.15.17.1//NONSGML v1.0//EN
CALSCALE:GREGORIAN
METHOD:PUBLISH
X-WR-CALNAME:Calendario de Eventos Gran Canaria
X-ORIGINAL-URL:https://calendarioeventos.com/en
X-WR-CALDESC:Events for Calendario de Eventos Gran Canaria
REFRESH-INTERVAL;VALUE=DURATION:PT1H
X-Robots-Tag:noindex
X-PUBLISHED-TTL:PT1H
BEGIN:VTIMEZONE
TZID:Europe/London
BEGIN:DAYLIGHT
TZOFFSETFROM:+0000
TZOFFSETTO:+0100
TZNAME:BST
DTSTART:20250330T010000
END:DAYLIGHT
BEGIN:STANDARD
TZOFFSETFROM:+0100
TZOFFSETTO:+0000
TZNAME:GMT
DTSTART:20251026T010000
END:STANDARD
BEGIN:DAYLIGHT
TZOFFSETFROM:+0000
TZOFFSETTO:+0100
TZNAME:BST
DTSTART:20260329T010000
END:DAYLIGHT
BEGIN:STANDARD
TZOFFSETFROM:+0100
TZOFFSETTO:+0000
TZNAME:GMT
DTSTART:20261025T010000
END:STANDARD
BEGIN:DAYLIGHT
TZOFFSETFROM:+0000
TZOFFSETTO:+0100
TZNAME:BST
DTSTART:20270328T010000
END:DAYLIGHT
BEGIN:STANDARD
TZOFFSETFROM:+0100
TZOFFSETTO:+0000
TZNAME:GMT
DTSTART:20271031T010000
END:STANDARD
END:VTIMEZONE
BEGIN:VEVENT
DTSTART;TZID=Europe/London:20260117T103000
DTEND;TZID=Europe/London:20260117T180000
DTSTAMP:20260421T061507
CREATED:20251229T110309Z
LAST-MODIFIED:20251229T110309Z
UID:48226-1768645800-1768672800@calendarioeventos.com
SUMMARY:Presentación - Taiguy Quesería Móvil Trashumante
DESCRIPTION:Presentación – Taiguy Quesería Móvil Trashumante en el Centro Cultural de Artenara\, Gran Canaria. \n\n10:30h – Visita guiada para conocer la quesería.\n12:00h – Exposición del proyecto trashumante.\n14:00h – Enyesque – concivencia para disfrutar de los sabores locales.\n17:00h – Taller – encuentro de Salto del Pastor para niños y adultos.\n\nMás información 649 343 905
URL:https://calendarioeventos.com/en/evento/presentacion-taiguy-queseria-movil-trashumante/
LOCATION:Centro Cultural de Artenara\, Av. Matías Vega\, 7\, 35350 Artenara\, Las Palmas
CATEGORIES:Actividades,Artenara,Eventos gratuitos,Gastronomía,Taller
ATTACH;FMTTYPE=image/png:https://calendarioeventos.com/wp-content/uploads/2025/12/Screenshot-2025-12-29-at-10-58-32-Instagram.avif
END:VEVENT
END:VCALENDAR