BEGIN:VCALENDAR
VERSION:2.0
PRODID:-//Calendario de Eventos Gran Canaria - ECPv6.15.17.1//NONSGML v1.0//EN
CALSCALE:GREGORIAN
METHOD:PUBLISH
X-WR-CALNAME:Calendario de Eventos Gran Canaria
X-ORIGINAL-URL:https://calendarioeventos.com/en
X-WR-CALDESC:Events for Calendario de Eventos Gran Canaria
REFRESH-INTERVAL;VALUE=DURATION:PT1H
X-Robots-Tag:noindex
X-PUBLISHED-TTL:PT1H
BEGIN:VTIMEZONE
TZID:Europe/London
BEGIN:DAYLIGHT
TZOFFSETFROM:+0000
TZOFFSETTO:+0100
TZNAME:BST
DTSTART:20240331T010000
END:DAYLIGHT
BEGIN:STANDARD
TZOFFSETFROM:+0100
TZOFFSETTO:+0000
TZNAME:GMT
DTSTART:20241027T010000
END:STANDARD
BEGIN:DAYLIGHT
TZOFFSETFROM:+0000
TZOFFSETTO:+0100
TZNAME:BST
DTSTART:20250330T010000
END:DAYLIGHT
BEGIN:STANDARD
TZOFFSETFROM:+0100
TZOFFSETTO:+0000
TZNAME:GMT
DTSTART:20251026T010000
END:STANDARD
BEGIN:DAYLIGHT
TZOFFSETFROM:+0000
TZOFFSETTO:+0100
TZNAME:BST
DTSTART:20260329T010000
END:DAYLIGHT
BEGIN:STANDARD
TZOFFSETFROM:+0100
TZOFFSETTO:+0000
TZNAME:GMT
DTSTART:20261025T010000
END:STANDARD
END:VTIMEZONE
BEGIN:VEVENT
DTSTART;TZID=Europe/London:20251220T200000
DTEND;TZID=Europe/London:20251220T220000
DTSTAMP:20260425T141459
CREATED:20251208T194652Z
LAST-MODIFIED:20251212T142516Z
UID:41740-1766260800-1766268000@calendarioeventos.com
SUMMARY:Programa Navideño Artenara
DESCRIPTION:Programa Navideño de Artenara 25/26\, Gran Canaria\, del día 12 de diciembre: \n\n20:00 h. Inauguración y Encendido de Navidad amenizado por el grupo «Enclave Musical».\nLugar: Plaza de San Matías.\n\nAplazado al día 20
URL:https://calendarioeventos.com/en/evento/programa-navideno-artenara/
LOCATION:Pl. San Matías\, 35350 Artenara\, Las Palmas
CATEGORIES:Actividades,Artenara,Eventos gratuitos,Inauguración,Música
ATTACH;FMTTYPE=image/jpeg:https://calendarioeventos.com/wp-content/uploads/2025/12/IMG_6030-724x1024-1.avif
END:VEVENT
END:VCALENDAR