BEGIN:VCALENDAR
VERSION:2.0
PRODID:-//Calendario de Eventos Gran Canaria - ECPv6.15.17.1//NONSGML v1.0//EN
CALSCALE:GREGORIAN
METHOD:PUBLISH
X-WR-CALNAME:Calendario de Eventos Gran Canaria
X-ORIGINAL-URL:https://calendarioeventos.com/en
X-WR-CALDESC:Events for Calendario de Eventos Gran Canaria
REFRESH-INTERVAL;VALUE=DURATION:PT1H
X-Robots-Tag:noindex
X-PUBLISHED-TTL:PT1H
BEGIN:VTIMEZONE
TZID:Europe/London
BEGIN:DAYLIGHT
TZOFFSETFROM:+0000
TZOFFSETTO:+0100
TZNAME:BST
DTSTART:20240331T010000
END:DAYLIGHT
BEGIN:STANDARD
TZOFFSETFROM:+0100
TZOFFSETTO:+0000
TZNAME:GMT
DTSTART:20241027T010000
END:STANDARD
BEGIN:DAYLIGHT
TZOFFSETFROM:+0000
TZOFFSETTO:+0100
TZNAME:BST
DTSTART:20250330T010000
END:DAYLIGHT
BEGIN:STANDARD
TZOFFSETFROM:+0100
TZOFFSETTO:+0000
TZNAME:GMT
DTSTART:20251026T010000
END:STANDARD
BEGIN:DAYLIGHT
TZOFFSETFROM:+0000
TZOFFSETTO:+0100
TZNAME:BST
DTSTART:20260329T010000
END:DAYLIGHT
BEGIN:STANDARD
TZOFFSETFROM:+0100
TZOFFSETTO:+0000
TZNAME:GMT
DTSTART:20261025T010000
END:STANDARD
END:VTIMEZONE
BEGIN:VEVENT
DTSTART;TZID=Europe/London:20251218T110000
DTEND;TZID=Europe/London:20251218T193000
DTSTAMP:20260420T005442
CREATED:20251209T110257Z
LAST-MODIFIED:20251218T142727Z
UID:41934-1766055600-1766086200@calendarioeventos.com
SUMMARY:Programación Navidad Valsequillo 18 diciembre
DESCRIPTION:Programación de Navidad de Valsequillo 2025\, Gran Canaria\, del 18 de diciembre: \n\nConcierto Municipal de Villancicos\, con alumnado de los Centros Educativos del Municipio y el Departamento de Folclore de las Escuelas Artísticas Municipales. Horario: 11:00 h. Plaza de Tifariti.\nTarde de Serenatas de Navidad por las Calles del Casco a cargo de la Parranda de las Escuelas Artísticas Municipales de Valsequillo de Gran Canaria.\nHorario: 18:00 h.\nZona Peatonal de Valsequillo Casco
URL:https://calendarioeventos.com/en/evento/programacion-navidad-valsequillo-18-diciembre/
LOCATION:Valsequillo
CATEGORIES:Concierto,Cultura,Eventos gratuitos,Música,Valsequillo
ATTACH;FMTTYPE=image/png:https://calendarioeventos.com/wp-content/uploads/2025/12/Screenshot-2025-12-15-at-17-46-51-Instagram.avif
END:VEVENT
END:VCALENDAR