BEGIN:VCALENDAR
VERSION:2.0
PRODID:-//Calendario de Eventos Gran Canaria - ECPv6.15.17.1//NONSGML v1.0//EN
CALSCALE:GREGORIAN
METHOD:PUBLISH
X-WR-CALNAME:Calendario de Eventos Gran Canaria
X-ORIGINAL-URL:https://calendarioeventos.com/en
X-WR-CALDESC:Events for Calendario de Eventos Gran Canaria
REFRESH-INTERVAL;VALUE=DURATION:PT1H
X-Robots-Tag:noindex
X-PUBLISHED-TTL:PT1H
BEGIN:VTIMEZONE
TZID:Europe/London
BEGIN:DAYLIGHT
TZOFFSETFROM:+0000
TZOFFSETTO:+0100
TZNAME:BST
DTSTART:20240331T010000
END:DAYLIGHT
BEGIN:STANDARD
TZOFFSETFROM:+0100
TZOFFSETTO:+0000
TZNAME:GMT
DTSTART:20241027T010000
END:STANDARD
BEGIN:DAYLIGHT
TZOFFSETFROM:+0000
TZOFFSETTO:+0100
TZNAME:BST
DTSTART:20250330T010000
END:DAYLIGHT
BEGIN:STANDARD
TZOFFSETFROM:+0100
TZOFFSETTO:+0000
TZNAME:GMT
DTSTART:20251026T010000
END:STANDARD
BEGIN:DAYLIGHT
TZOFFSETFROM:+0000
TZOFFSETTO:+0100
TZNAME:BST
DTSTART:20260329T010000
END:DAYLIGHT
BEGIN:STANDARD
TZOFFSETFROM:+0100
TZOFFSETTO:+0000
TZNAME:GMT
DTSTART:20261025T010000
END:STANDARD
END:VTIMEZONE
BEGIN:VEVENT
DTSTART;TZID=Europe/London:20251214T110000
DTEND;TZID=Europe/London:20251214T130000
DTSTAMP:20260424T034346
CREATED:20251204T134210Z
LAST-MODIFIED:20251211T085658Z
UID:40375-1765710000-1765717200@calendarioeventos.com
SUMMARY:Recogida solidaria de Juguetes La Ballena
DESCRIPTION:Recogida solidaria de Juguetes en el CC La Ballena\, Las Palmas de Gran Canaria. \nEl II Encuentro Solidario de Murgas llega a La Ballena cargado de ritmo\, color… ¡y mucho corazón! \nCon la Murga Las Majaderas y amigos. \nTrae tu juguete nuevo (no bélico ni sexista) y colabora con una causa preciosa mientras disfrutas del mejor ambiente carnavalero. \n👪 Espectáculos\, talleres\, música en vivo\, visitas muy especiales… ¡y muchas sorpresas más te esperan estas fiestas!
URL:https://calendarioeventos.com/en/evento/recogida-solidaria-de-juguetes-la-ballena/
LOCATION:Centro Comercial La Ballena\, Carr. del Nte.\, 112\, 35013 Las Palmas de Gran Canaria\, Las Palmas
CATEGORIES:Carnaval,Entretenimiento,Eventos gratuitos,Humor,Infantil,Las Palmas de GC,Música
ATTACH;FMTTYPE=image/png:https://calendarioeventos.com/wp-content/uploads/2025/12/Screenshot-2025-12-11-at-08-56-29-Instagram.avif
END:VEVENT
END:VCALENDAR