BEGIN:VCALENDAR
VERSION:2.0
PRODID:-//Calendario de Eventos Gran Canaria - ECPv6.15.17.1//NONSGML v1.0//EN
CALSCALE:GREGORIAN
METHOD:PUBLISH
X-WR-CALNAME:Calendario de Eventos Gran Canaria
X-ORIGINAL-URL:https://calendarioeventos.com/en
X-WR-CALDESC:Events for Calendario de Eventos Gran Canaria
REFRESH-INTERVAL;VALUE=DURATION:PT1H
X-Robots-Tag:noindex
X-PUBLISHED-TTL:PT1H
BEGIN:VTIMEZONE
TZID:Europe/London
BEGIN:DAYLIGHT
TZOFFSETFROM:+0000
TZOFFSETTO:+0100
TZNAME:BST
DTSTART:20240331T010000
END:DAYLIGHT
BEGIN:STANDARD
TZOFFSETFROM:+0100
TZOFFSETTO:+0000
TZNAME:GMT
DTSTART:20241027T010000
END:STANDARD
BEGIN:DAYLIGHT
TZOFFSETFROM:+0000
TZOFFSETTO:+0100
TZNAME:BST
DTSTART:20250330T010000
END:DAYLIGHT
BEGIN:STANDARD
TZOFFSETFROM:+0100
TZOFFSETTO:+0000
TZNAME:GMT
DTSTART:20251026T010000
END:STANDARD
BEGIN:DAYLIGHT
TZOFFSETFROM:+0000
TZOFFSETTO:+0100
TZNAME:BST
DTSTART:20260329T010000
END:DAYLIGHT
BEGIN:STANDARD
TZOFFSETFROM:+0100
TZOFFSETTO:+0000
TZNAME:GMT
DTSTART:20261025T010000
END:STANDARD
END:VTIMEZONE
BEGIN:VEVENT
DTSTART;TZID=Europe/London:20251221T130000
DTEND;TZID=Europe/London:20251221T170000
DTSTAMP:20260425T124634
CREATED:20251209T183603Z
LAST-MODIFIED:20251209T183603Z
UID:42169-1766322000-1766336400@calendarioeventos.com
SUMMARY:Romería - Fiestas Santa Lucía y los Labradores
DESCRIPTION:Programa del día de la Romería de las Fiestas de Santa Lucía y los Labradores en Santa Lucía de Tirajana\, Gran Canaria\, el 21 de diciembre: \nROMERÍA DE LOS LABRADORES \n\n13:00 h. Dará comienzo la popular Romería del Labrador\, acompañada de las carretas participantes\, donde todos los romeros podrán degustar los productos típicos de la zona\, como aceitunas\, mejunje\, mantecados\, pan de leña\, etc.\nFinalizada la romería\, en el Parque Municipal\, dará comienzo la popular verbena del Labrador amenizada por Dúo purpurina y D’ Music. En la cancha del polideportivo Dj Alejo Sánchez y Antonio Boada.
URL:https://calendarioeventos.com/en/evento/romeria-fiestas-santa-lucia-y-los-labradores/
LOCATION:Santa Lucía de Tirajana\, 35280 Las Palmas
CATEGORIES:Entretenimiento,Eventos gratuitos,Música,Romería,Santa Lucía de Tirajana,Verbena
ATTACH;FMTTYPE=image/jpeg:https://calendarioeventos.com/wp-content/uploads/2025/11/IMG_5056-724x1024-1.avif
END:VEVENT
END:VCALENDAR