BEGIN:VCALENDAR
VERSION:2.0
PRODID:-//Calendario de Eventos Gran Canaria - ECPv6.15.17.1//NONSGML v1.0//EN
CALSCALE:GREGORIAN
METHOD:PUBLISH
X-WR-CALNAME:Calendario de Eventos Gran Canaria
X-ORIGINAL-URL:https://calendarioeventos.com/en
X-WR-CALDESC:Events for Calendario de Eventos Gran Canaria
REFRESH-INTERVAL;VALUE=DURATION:PT1H
X-Robots-Tag:noindex
X-PUBLISHED-TTL:PT1H
BEGIN:VTIMEZONE
TZID:Europe/London
BEGIN:DAYLIGHT
TZOFFSETFROM:+0000
TZOFFSETTO:+0100
TZNAME:BST
DTSTART:20240331T010000
END:DAYLIGHT
BEGIN:STANDARD
TZOFFSETFROM:+0100
TZOFFSETTO:+0000
TZNAME:GMT
DTSTART:20241027T010000
END:STANDARD
BEGIN:DAYLIGHT
TZOFFSETFROM:+0000
TZOFFSETTO:+0100
TZNAME:BST
DTSTART:20250330T010000
END:DAYLIGHT
BEGIN:STANDARD
TZOFFSETFROM:+0100
TZOFFSETTO:+0000
TZNAME:GMT
DTSTART:20251026T010000
END:STANDARD
BEGIN:DAYLIGHT
TZOFFSETFROM:+0000
TZOFFSETTO:+0100
TZNAME:BST
DTSTART:20260329T010000
END:DAYLIGHT
BEGIN:STANDARD
TZOFFSETFROM:+0100
TZOFFSETTO:+0000
TZNAME:GMT
DTSTART:20261025T010000
END:STANDARD
END:VTIMEZONE
BEGIN:VEVENT
DTSTART;TZID=Europe/London:20251206T170000
DTEND;TZID=Europe/London:20251206T190000
DTSTAMP:20260424T034231
CREATED:20251204T093339Z
LAST-MODIFIED:20251204T093339Z
UID:40184-1765040400-1765047600@calendarioeventos.com
SUMMARY:Ruta mágica navideña San Bartolomé
DESCRIPTION:Ruta mágica navideña por los pueblos de San Bartolomé de Tirajana\, Gran Canaria. \n¡La ilusión vuelve a recorrer todos nuestros pueblos!\nDel 𝟲 𝗱𝗲 𝗱𝗶𝗰𝗶𝗲𝗺𝗯𝗿𝗲 𝗮𝗹 𝟮 𝗱𝗲 𝗲𝗻𝗲𝗿𝗼\, disfruta de espectáculos familiares\, magia\, cuentos\, humor y mucha fantasía en una ruta pensada para llenar cada rincón de nuestro municipio de espíritu navideño. \n🎭 Mr. Gas en Navidad\n🪄 La Magia de Disney\n🌟 El Show Navideño de Tadeo\n🍞 El Panadero Generoso\n🎪 Anibal el Mago\n🤡 Payaso Che Pedro\n🧞 Tributo a Aladdín\n❄️ La Leyenda de los Reyes Magos\n🎁 Ilusión\, una aventura navideña \n📍 𝗠𝗮́𝘀 𝗱𝗲 𝟮𝟬 𝗹𝗼𝗰𝗮𝗹𝗶𝘇𝗮𝗰𝗶𝗼𝗻𝗲𝘀: Lomo Gordo\, Lomo Perera\, Montaña Arena\, Cercados de Espino\, Ayacata\, Juan Grande\, El Pajar\, Castillo del Romeral\, Salinas del Matorral\, Los Rodeos Km40\, Lomo Galeón\, Las Crucitas\, Aldea Blanca\, Montaña la Data\, Agadir\, Montaña Blanca\, Fataga\, El Tablero\, Calderín\, Tunte y Ayagaures \n⏰ Todos los espectáculos comienzan a las 17:00 h o 18:00 h\, según la ubicación. \n0
URL:https://calendarioeventos.com/en/evento/ruta-magica-navidena-san-bartolome/
LOCATION:San Bartolomé de Tirajana\, 35290 Las Palmas
CATEGORIES:Circo,Entretenimiento,Eventos gratuitos,Humor,Infantil,Literatura,Magia,San Bartolomé de Tirajana,Teatro
ATTACH;FMTTYPE=image/png:https://calendarioeventos.com/wp-content/uploads/2025/12/Screenshot-2025-12-04-at-09-28-48-Instagram.avif
END:VEVENT
END:VCALENDAR