BEGIN:VCALENDAR
VERSION:2.0
PRODID:-//Calendario de Eventos Gran Canaria - ECPv6.15.17.1//NONSGML v1.0//EN
CALSCALE:GREGORIAN
METHOD:PUBLISH
X-WR-CALNAME:Calendario de Eventos Gran Canaria
X-ORIGINAL-URL:https://calendarioeventos.com/en
X-WR-CALDESC:Events for Calendario de Eventos Gran Canaria
REFRESH-INTERVAL;VALUE=DURATION:PT1H
X-Robots-Tag:noindex
X-PUBLISHED-TTL:PT1H
BEGIN:VTIMEZONE
TZID:Europe/London
BEGIN:DAYLIGHT
TZOFFSETFROM:+0000
TZOFFSETTO:+0100
TZNAME:BST
DTSTART:20250330T010000
END:DAYLIGHT
BEGIN:STANDARD
TZOFFSETFROM:+0100
TZOFFSETTO:+0000
TZNAME:GMT
DTSTART:20251026T010000
END:STANDARD
BEGIN:DAYLIGHT
TZOFFSETFROM:+0000
TZOFFSETTO:+0100
TZNAME:BST
DTSTART:20260329T010000
END:DAYLIGHT
BEGIN:STANDARD
TZOFFSETFROM:+0100
TZOFFSETTO:+0000
TZNAME:GMT
DTSTART:20261025T010000
END:STANDARD
BEGIN:DAYLIGHT
TZOFFSETFROM:+0000
TZOFFSETTO:+0100
TZNAME:BST
DTSTART:20270328T010000
END:DAYLIGHT
BEGIN:STANDARD
TZOFFSETFROM:+0100
TZOFFSETTO:+0000
TZNAME:GMT
DTSTART:20271031T010000
END:STANDARD
END:VTIMEZONE
BEGIN:VEVENT
DTSTART;TZID=Europe/London:20260302T220000
DTEND;TZID=Europe/London:20260302T233000
DTSTAMP:20260423T224549
CREATED:20260207T095647Z
LAST-MODIFIED:20260222T154142Z
UID:10013698-1772488800-1772494200@calendarioeventos.com
SUMMARY:Seminario - Explorando las Dimensiones del Canto
DESCRIPTION:Seminario – Explorando las Dimensiones del Canto en la Casona de Vegueta\, Las Palmas de Gran Canaria. \nSeminario intensivo de alta profesionalidad vocal y polifónica.\n27 horas de practica 3 docentes \nUn seminario intensivo diseñado para cantantes y amantes de la música que deseen profundizar en el canto como disciplina técnica\, emocional y colectiva\, combinando formación vocal\, psicopedagogía y experiencia coral. \n📍 Información general\nDuración: 5 días\nCantidad de horas: 27 horas\nFechas: Del 02 al 06 de marzo\nLugar: La Casona de Vegueta\nPrecio Early: 100 € por persona (Hasta 31 de enero)\nPrecio normal: 125 € por persona\nNivel requerido: Básico – Intermedio\n🎶 ¿Qué ofrece el seminario?\nEste seminario propone una experiencia teórico–práctica donde el participante: \nMejora su técnica vocal aplicada al canto popular.\nComprende el funcionamiento del cuerpo y el cerebro en el acto de cantar.\nTrabaja la gestión emocional y los bloqueos psicológicos relacionados con la voz.\nAprende didáctica del canto en grupo.\nVive la experiencia del canto coral\, la armonización y el trabajo de repertorio.\nConoce el campo laboral y el mercado musical actual.\nParticipa en simulaciones de audiciones con feedback profesional.\nMetodología\nClases teóricas dinámicas.\nEjercicios prácticos individuales y grupales.\nEnsayos corales diarios.\nEvaluación continua y feedback personalizado por parte de los ponentes.\nEnfoque humano\, artístico y profesional del canto.\nPresentación final\nA partir del Día 2\, los participantes podrán inscribirse para una demostración final\, interpretando una canción de hasta 1 minuto y 30 segundos\, con: \nPreparación escénica.\nSimulación de audiciones reales.\nRetroalimentación directa de los profesionales.\nEl seminario culmina con una presentación coral y un espacio de cierre y reflexión colectiva. \n👥 Ponentes\nGiovanna\nCantante profesional y directora de la productora Sing Is Life.\nEspecialista en técnica vocal y producción musical.\nMariano Segalla\nPsicopedagogo y profesor de música.\nDirector de La Casona de Vegueta.\nDavid Beristain\nCompositor y director con experiencia en coros internacionales\, especializado en repertorio tradicional y contemporáneo.\nInvitado especial:\nIsrael Fleitas– CFO de la productora discográfica iberoamericana Sing Is Life.
URL:https://calendarioeventos.com/en/evento/seminario-explorando-las-dimensiones-del-canto/2026-03-02/
LOCATION:La Casona de Vegueta\, C. Padre José de Sosa\, 24\, 35001 Las Palmas de Gran Canaria\, Las Palmas
CATEGORIES:Actividades,Charla,Las Palmas de GC,Música,Taller
ATTACH;FMTTYPE=image/jpeg:https://calendarioeventos.com/wp-content/uploads/2026/02/cartel-seminario-final-3.pdf-5.jpg.avif
END:VEVENT
END:VCALENDAR