BEGIN:VCALENDAR
VERSION:2.0
PRODID:-//Calendario de Eventos Gran Canaria - ECPv6.15.17.1//NONSGML v1.0//EN
CALSCALE:GREGORIAN
METHOD:PUBLISH
X-WR-CALNAME:Calendario de Eventos Gran Canaria
X-ORIGINAL-URL:https://calendarioeventos.com/en
X-WR-CALDESC:Events for Calendario de Eventos Gran Canaria
REFRESH-INTERVAL;VALUE=DURATION:PT1H
X-Robots-Tag:noindex
X-PUBLISHED-TTL:PT1H
BEGIN:VTIMEZONE
TZID:Europe/London
BEGIN:DAYLIGHT
TZOFFSETFROM:+0000
TZOFFSETTO:+0100
TZNAME:BST
DTSTART:20250330T010000
END:DAYLIGHT
BEGIN:STANDARD
TZOFFSETFROM:+0100
TZOFFSETTO:+0000
TZNAME:GMT
DTSTART:20251026T010000
END:STANDARD
BEGIN:DAYLIGHT
TZOFFSETFROM:+0000
TZOFFSETTO:+0100
TZNAME:BST
DTSTART:20260329T010000
END:DAYLIGHT
BEGIN:STANDARD
TZOFFSETFROM:+0100
TZOFFSETTO:+0000
TZNAME:GMT
DTSTART:20261025T010000
END:STANDARD
BEGIN:DAYLIGHT
TZOFFSETFROM:+0000
TZOFFSETTO:+0100
TZNAME:BST
DTSTART:20270328T010000
END:DAYLIGHT
BEGIN:STANDARD
TZOFFSETFROM:+0100
TZOFFSETTO:+0000
TZNAME:GMT
DTSTART:20271031T010000
END:STANDARD
END:VTIMEZONE
BEGIN:VEVENT
DTSTART;TZID=Europe/London:20260222T083000
DTEND;TZID=Europe/London:20260222T160000
DTSTAMP:20260425T010356
CREATED:20260216T104212Z
LAST-MODIFIED:20260219T114547Z
UID:59407-1771749000-1771776000@calendarioeventos.com
SUMMARY:Senderismo - Altos de Camaretas
DESCRIPTION:Senderismo – Altos de Camaretas\, San Mateo\, Gran Canaria\, por Trekking 7. \nDescripción del Itinerario: Salida desde Camaretas\, Hoya del Gamonal\, Lomo Mariano\, Los Manantiales\, Lomo Blanco\, Hoya del Salado\, Degollada Blanca\, Cueva Grande y fin en Camaretas. \nDificultad física: Baja/Media.\nDistancia: 7\,9km\nTiempo de pateo: 4 horas con paradas técnicas. \n𝙃𝙊𝙍𝘼𝙍𝙄𝙊 𝙔 𝙇𝙐𝙂𝘼𝙍 𝘿𝙀 𝙀𝙉𝘾𝙐𝙀𝙉𝙏𝙍𝙊:\nNos encontraremos en el Aula de la Naturaleza de Camaretas a las 9:00. \nUbicación GPS para llegar con el coche: https://maps.app.goo.gl/pKyRzsPisf3deSee7 \nSi alguien tiene dudas nos podemos ver a las 8:15 en el parking del Polideportivo de San Mateo. \nUbicación GPS:\nhttps://maps.app.goo.gl/JNJBHqBMypPtnFTx7 \nGuiado por Yeray Ojeda\, contacto +34609149586
URL:https://calendarioeventos.com/en/evento/senderismo-altos-de-camaretas/
LOCATION:Camaretas\, 35329\, Las Palmas
CATEGORIES:Actividades,San Mateo,Senderismo
ATTACH;FMTTYPE=image/jpeg:https://calendarioeventos.com/wp-content/uploads/2026/02/637461949_2815201458819736_8086500180810916651_n.avif
END:VEVENT
END:VCALENDAR