BEGIN:VCALENDAR
VERSION:2.0
PRODID:-//Calendario de Eventos Gran Canaria - ECPv6.15.17.1//NONSGML v1.0//EN
CALSCALE:GREGORIAN
METHOD:PUBLISH
X-WR-CALNAME:Calendario de Eventos Gran Canaria
X-ORIGINAL-URL:https://calendarioeventos.com/en
X-WR-CALDESC:Events for Calendario de Eventos Gran Canaria
REFRESH-INTERVAL;VALUE=DURATION:PT1H
X-Robots-Tag:noindex
X-PUBLISHED-TTL:PT1H
BEGIN:VTIMEZONE
TZID:Europe/London
BEGIN:DAYLIGHT
TZOFFSETFROM:+0000
TZOFFSETTO:+0100
TZNAME:BST
DTSTART:20240331T010000
END:DAYLIGHT
BEGIN:STANDARD
TZOFFSETFROM:+0100
TZOFFSETTO:+0000
TZNAME:GMT
DTSTART:20241027T010000
END:STANDARD
BEGIN:DAYLIGHT
TZOFFSETFROM:+0000
TZOFFSETTO:+0100
TZNAME:BST
DTSTART:20250330T010000
END:DAYLIGHT
BEGIN:STANDARD
TZOFFSETFROM:+0100
TZOFFSETTO:+0000
TZNAME:GMT
DTSTART:20251026T010000
END:STANDARD
BEGIN:DAYLIGHT
TZOFFSETFROM:+0000
TZOFFSETTO:+0100
TZNAME:BST
DTSTART:20260329T010000
END:DAYLIGHT
BEGIN:STANDARD
TZOFFSETFROM:+0100
TZOFFSETTO:+0000
TZNAME:GMT
DTSTART:20261025T010000
END:STANDARD
END:VTIMEZONE
BEGIN:VEVENT
DTSTART;TZID=Europe/London:20251122T080000
DTEND;TZID=Europe/London:20251122T153000
DTSTAMP:20260425T131347
CREATED:20251112T112501Z
LAST-MODIFIED:20251112T112501Z
UID:32502-1763798400-1763825400@calendarioeventos.com
SUMMARY:Senderismo - Caldera de Bandama + Voluntariado
DESCRIPTION:Senderismo interpretado por la Caldera de Bandama + Voluntariado Ambiental\, Santa Brígida\, Gran Canaria. \n\n\n\n¿Te gustaría descender al corazón de la Caldera de Bandama y descubrir uno de los paisajes volcánicos más singulares de la isla Gran Canaria? En su interior se conserva una biodiversidad única que necesita protección frente al avance de especies exóticas invasoras (flora). \nTe invitamos a participar en una jornada de acción y sensibilización ambiental en la Caldera de Bandama\, situada entre los municipios de la Villa de Santa Brígida y Las Palmas de Gran Canaria. Realizaremos un sendero interpretado hasta el fondo de la Caldera y una acción de voluntariado ambiental para la retirada de “Rabo de gato” (Pennisetum setaceum)\, una especie exótica invasora que amenaza la flora autóctona de este espacio natural. Además\, conoceremos curiosidades geológicas y ecológicas\, aprenderemos a identificar especies locales y veremos cómo pequeñas acciones colectivas pueden marcar una gran diferencia en la conservación del entorno. \n¡Súmate al cambio y vive una jornada única! \nInscripción previa gratuita en este enlace. \nSábado\, 22 de noviembre\, de 08:00 a 15:30 horas. Incluye traslado (guagua\, transporte colectivo de ida/vuelta) desde el punto de encuentro hasta el punto de inicio de la acción. \nPunto de encuentro: parada de guaguas de la Fuente Luminosa (Plaza Fuero Real de Gran Canaria)\, en el municipio de Las Palmas de Gran Canaria.
URL:https://calendarioeventos.com/en/evento/senderismo-caldera-de-bandama-voluntariado/
LOCATION:Fuente Luminosa\, Pl. Fuero Real de Gran Canaria\, s/n\, 35004 Las Palmas de Gran Canaria\, Las Palmas
CATEGORIES:Actividades,Eventos gratuitos,Santa Brígida,Senderismo
ATTACH;FMTTYPE=image/jpeg:https://calendarioeventos.com/wp-content/uploads/2025/11/22_noviembre._2-1.avif
END:VEVENT
END:VCALENDAR