BEGIN:VCALENDAR
VERSION:2.0
PRODID:-//Calendario de Eventos Gran Canaria - ECPv6.15.17.1//NONSGML v1.0//EN
CALSCALE:GREGORIAN
METHOD:PUBLISH
X-WR-CALNAME:Calendario de Eventos Gran Canaria
X-ORIGINAL-URL:https://calendarioeventos.com/en
X-WR-CALDESC:Events for Calendario de Eventos Gran Canaria
REFRESH-INTERVAL;VALUE=DURATION:PT1H
X-Robots-Tag:noindex
X-PUBLISHED-TTL:PT1H
BEGIN:VTIMEZONE
TZID:Europe/London
BEGIN:DAYLIGHT
TZOFFSETFROM:+0000
TZOFFSETTO:+0100
TZNAME:BST
DTSTART:20250330T010000
END:DAYLIGHT
BEGIN:STANDARD
TZOFFSETFROM:+0100
TZOFFSETTO:+0000
TZNAME:GMT
DTSTART:20251026T010000
END:STANDARD
BEGIN:DAYLIGHT
TZOFFSETFROM:+0000
TZOFFSETTO:+0100
TZNAME:BST
DTSTART:20260329T010000
END:DAYLIGHT
BEGIN:STANDARD
TZOFFSETFROM:+0100
TZOFFSETTO:+0000
TZNAME:GMT
DTSTART:20261025T010000
END:STANDARD
BEGIN:DAYLIGHT
TZOFFSETFROM:+0000
TZOFFSETTO:+0100
TZNAME:BST
DTSTART:20270328T010000
END:DAYLIGHT
BEGIN:STANDARD
TZOFFSETFROM:+0100
TZOFFSETTO:+0000
TZNAME:GMT
DTSTART:20271031T010000
END:STANDARD
END:VTIMEZONE
BEGIN:VEVENT
DTSTART;TZID=Europe/London:20260221T080000
DTEND;TZID=Europe/London:20260221T180000
DTSTAMP:20260425T010313
CREATED:20260215T193836Z
LAST-MODIFIED:20260215T193836Z
UID:59312-1771660800-1771696800@calendarioeventos.com
SUMMARY:Senderismo - Cazadores por Cernícalos
DESCRIPTION:Ruta de Senderismo – Semi-Circular Cazadores por Cernícalos organizada por el Ayuntamiento de Mogán\, Gran Canaria. \nDificultad baja-media\, distancia 10kms. Desnivel 400+ 570- \nDisfruta de la naturaleza\, el deporte y los paisajes únicos de Gran Canaria con nuestro programa de rutas de senderismo 2026. \n➡Rutas guiadas\, niveles accesibles y recorridos espectaculares durante todo el año. \nInscripción e información siempre en la semana en la que se celebre la ruta (plazas limitadas) \nRuta sábado: Lunes a miércoles \nRuta Domingo: Lunes a jueves \n📞 622 884 207 (preferiblemente WhatsApp) \nCuota adultos 10€\, menores 5€
URL:https://calendarioeventos.com/en/evento/senderismo-cazadores-por-cernicalos/
LOCATION:Mogán\, 35140 Las Palmas
CATEGORIES:Actividades,Mogán,Senderismo,Telde
ATTACH;FMTTYPE=image/png:https://calendarioeventos.com/wp-content/uploads/2026/02/Screenshot-2026-02-15-at-19-37-56-Instagram.avif
END:VEVENT
END:VCALENDAR