BEGIN:VCALENDAR
VERSION:2.0
PRODID:-//Calendario de Eventos Gran Canaria - ECPv6.15.17.1//NONSGML v1.0//EN
CALSCALE:GREGORIAN
METHOD:PUBLISH
X-WR-CALNAME:Calendario de Eventos Gran Canaria
X-ORIGINAL-URL:https://calendarioeventos.com/en
X-WR-CALDESC:Events for Calendario de Eventos Gran Canaria
REFRESH-INTERVAL;VALUE=DURATION:PT1H
X-Robots-Tag:noindex
X-PUBLISHED-TTL:PT1H
BEGIN:VTIMEZONE
TZID:Europe/London
BEGIN:DAYLIGHT
TZOFFSETFROM:+0000
TZOFFSETTO:+0100
TZNAME:BST
DTSTART:20240331T010000
END:DAYLIGHT
BEGIN:STANDARD
TZOFFSETFROM:+0100
TZOFFSETTO:+0000
TZNAME:GMT
DTSTART:20241027T010000
END:STANDARD
BEGIN:DAYLIGHT
TZOFFSETFROM:+0000
TZOFFSETTO:+0100
TZNAME:BST
DTSTART:20250330T010000
END:DAYLIGHT
BEGIN:STANDARD
TZOFFSETFROM:+0100
TZOFFSETTO:+0000
TZNAME:GMT
DTSTART:20251026T010000
END:STANDARD
BEGIN:DAYLIGHT
TZOFFSETFROM:+0000
TZOFFSETTO:+0100
TZNAME:BST
DTSTART:20260329T010000
END:DAYLIGHT
BEGIN:STANDARD
TZOFFSETFROM:+0100
TZOFFSETTO:+0000
TZNAME:GMT
DTSTART:20261025T010000
END:STANDARD
END:VTIMEZONE
BEGIN:VEVENT
DTSTART;TZID=Europe/London:20251213T083000
DTEND;TZID=Europe/London:20251213T233000
DTSTAMP:20260424T065702
CREATED:20251204T143314Z
LAST-MODIFIED:20251204T143314Z
UID:40435-1765614600-1765668600@calendarioeventos.com
SUMMARY:Senderismo - Cuatro puertas a Ojos de Garza
DESCRIPTION:Senderismo – De Cuatro puertas a Ojos de Garza organizada por el Ayuntamiento de Arucas\, Gran Canaria. \nEste martes 9 de diciembre\, a las 08:00 h\, se abre el plazo de inscripción para la próxima caminata: “De Cuatro Puertas a Ojos de Garza”\, prevista para el sábado 13 de diciembre. \nInscripción a través de la APP Arucas Reservas Deportivas. \nAntes de apuntarte\, revisa la ficha técnica de la ruta\, donde encontrarás información clave: distancia\, desnivel\, nivel de exigencia y otros detalles importantes para disfrutarla con seguridad.
URL:https://calendarioeventos.com/en/evento/senderismo-cuatro-puertas-a-ojos-de-garza/
LOCATION:Cuatro Puertas\, 35215 Las Palmas
CATEGORIES:Actividades,Arucas,Senderismo
ATTACH;FMTTYPE=image/png:https://calendarioeventos.com/wp-content/uploads/2025/12/Screenshot-2025-12-04-at-14-32-38-Instagram.avif
END:VEVENT
END:VCALENDAR